BEGIN:VCALENDAR
VERSION:2.0
PRODID:-//Tilden Park Golf Club - ECPv6.15.20//NONSGML v1.0//EN
CALSCALE:GREGORIAN
METHOD:PUBLISH
X-ORIGINAL-URL:https://tildenparkgolfclub.org
X-WR-CALDESC:Events for Tilden Park Golf Club
REFRESH-INTERVAL;VALUE=DURATION:PT1H
X-Robots-Tag:noindex
X-PUBLISHED-TTL:PT1H
BEGIN:VTIMEZONE
TZID:America/Los_Angeles
BEGIN:DAYLIGHT
TZOFFSETFROM:-0800
TZOFFSETTO:-0700
TZNAME:PDT
DTSTART:20240310T100000
END:DAYLIGHT
BEGIN:STANDARD
TZOFFSETFROM:-0700
TZOFFSETTO:-0800
TZNAME:PST
DTSTART:20241103T090000
END:STANDARD
BEGIN:DAYLIGHT
TZOFFSETFROM:-0800
TZOFFSETTO:-0700
TZNAME:PDT
DTSTART:20250309T100000
END:DAYLIGHT
BEGIN:STANDARD
TZOFFSETFROM:-0700
TZOFFSETTO:-0800
TZNAME:PST
DTSTART:20251102T090000
END:STANDARD
BEGIN:DAYLIGHT
TZOFFSETFROM:-0800
TZOFFSETTO:-0700
TZNAME:PDT
DTSTART:20260308T100000
END:DAYLIGHT
BEGIN:STANDARD
TZOFFSETFROM:-0700
TZOFFSETTO:-0800
TZNAME:PST
DTSTART:20261101T090000
END:STANDARD
END:VTIMEZONE
BEGIN:VEVENT
DTSTART;TZID=America/Los_Angeles:20250906T120000
DTEND;TZID=America/Los_Angeles:20250906T170000
DTSTAMP:20260419T070655
CREATED:20250527T155252Z
LAST-MODIFIED:20250730T205958Z
UID:7701-1757160000-1757178000@tildenparkgolfclub.org
SUMMARY:Spyglass Tighten Up
DESCRIPTION:($80 walk\, $100 ride\, includes prizes)
URL:https://tildenparkgolfclub.org/event/spyglass-tighten-up/
LOCATION:Pacific Grove Golf Links\, 77 Asilomar Blvd.\, Pacific Grove\, CA\, 93950\, United States
CATEGORIES:Away Day
ORGANIZER;CN="Matt Wilpolt":MAILTO:mattwwilpolt@yahoo.com
END:VEVENT
BEGIN:VEVENT
DTSTART;TZID=America/Los_Angeles:20250907T110000
DTEND;TZID=America/Los_Angeles:20250907T170000
DTSTAMP:20260419T070655
CREATED:20250527T155417Z
LAST-MODIFIED:20250730T220255Z
UID:7703-1757242800-1757264400@tildenparkgolfclub.org
SUMMARY:Spyglass Trophy
DESCRIPTION:
URL:https://tildenparkgolfclub.org/event/spyglass-trophy/
LOCATION:Bayonet\, 1 McClure Way\, Seaside\, CA\, 93955\, United States
CATEGORIES:Away Day
ORGANIZER;CN="Matt Wilpolt":MAILTO:mattwwilpolt@yahoo.com
END:VEVENT
BEGIN:VEVENT
DTSTART;TZID=America/Los_Angeles:20250917T180000
DTEND;TZID=America/Los_Angeles:20250917T193000
DTSTAMP:20260419T070655
CREATED:20250730T203934Z
LAST-MODIFIED:20250730T205245Z
UID:7757-1758132000-1758137400@tildenparkgolfclub.org
SUMMARY:General Membership Meeting
DESCRIPTION:5:15pm Putting Contest of 21 at the putting green.  6:00pm Meeting starts at Overlook Restaurant \nComments\, questions and all feedbacks can be emailed to tildengolf@gmail.com
URL:https://tildenparkgolfclub.org/event/general-membership-meeting/
LOCATION:Tilden Park Golf Course\, 10 Golf Course Dr\, Berkeley\, CA\, 94708\, United States
CATEGORIES:General Membership Meeting
END:VEVENT
BEGIN:VEVENT
DTSTART;TZID=America/Los_Angeles:20250921T080000
DTEND;TZID=America/Los_Angeles:20250921T130000
DTSTAMP:20260419T070655
CREATED:20250527T155535Z
LAST-MODIFIED:20250909T172719Z
UID:7705-1758441600-1758459600@tildenparkgolfclub.org
SUMMARY:The VOLLMER
DESCRIPTION:VOLLMER CUP TROPHY\nStarted in 1938\, the Vollmer Cup Trophy (originally\, the August Vollmer Trophy and a 72-hole tournament) is a 18-Hole\, medal play Honor Board tournament. “The Vollmer” is named after August “Augie” Vollmer (1876-1955)\, one of Tilden Golf Club’s earliest members\, Berkeley’s Town Marshall (1905-1909)\, first Chief of Police (1909-1931)\, developer of Cal’s School of Criminology\, and one of the founders and a first board director of the East Bay Regional Park District. Vollmer Peak overlooking Tilden Park (formerly Bald Peak) is named in his honor. According to one source\, the actual “Vollmer Cup Perpetual Trophy” was last reportedly held by 1938 winner\, Oakland firefighter Dave Gray. \nFORMAT: Low total score over 18 holes\, individual medal play at handicap. \n  \nRegistrations are closed for this event
URL:https://tildenparkgolfclub.org/event/the-vollmer/
LOCATION:Tilden Park Golf Course\, 10 Golf Course Dr\, Berkeley\, CA\, 94708\, United States
CATEGORIES:Board Tournament,Home Tournament
END:VEVENT
END:VCALENDAR