BEGIN:VCALENDAR
VERSION:2.0
PRODID:-//Tilden Park Golf Club - ECPv6.15.20//NONSGML v1.0//EN
CALSCALE:GREGORIAN
METHOD:PUBLISH
X-WR-CALNAME:Tilden Park Golf Club
X-ORIGINAL-URL:https://tildenparkgolfclub.org
X-WR-CALDESC:Events for Tilden Park Golf Club
REFRESH-INTERVAL;VALUE=DURATION:PT1H
X-Robots-Tag:noindex
X-PUBLISHED-TTL:PT1H
BEGIN:VTIMEZONE
TZID:America/Los_Angeles
BEGIN:DAYLIGHT
TZOFFSETFROM:-0800
TZOFFSETTO:-0700
TZNAME:PDT
DTSTART:20240310T100000
END:DAYLIGHT
BEGIN:STANDARD
TZOFFSETFROM:-0700
TZOFFSETTO:-0800
TZNAME:PST
DTSTART:20241103T090000
END:STANDARD
BEGIN:DAYLIGHT
TZOFFSETFROM:-0800
TZOFFSETTO:-0700
TZNAME:PDT
DTSTART:20250309T100000
END:DAYLIGHT
BEGIN:STANDARD
TZOFFSETFROM:-0700
TZOFFSETTO:-0800
TZNAME:PST
DTSTART:20251102T090000
END:STANDARD
BEGIN:DAYLIGHT
TZOFFSETFROM:-0800
TZOFFSETTO:-0700
TZNAME:PDT
DTSTART:20260308T100000
END:DAYLIGHT
BEGIN:STANDARD
TZOFFSETFROM:-0700
TZOFFSETTO:-0800
TZNAME:PST
DTSTART:20261101T090000
END:STANDARD
END:VTIMEZONE
BEGIN:VEVENT
DTSTART;TZID=America/Los_Angeles:20250601T080000
DTEND;TZID=America/Los_Angeles:20250601T120000
DTSTAMP:20260419T112336
CREATED:20250322T221948Z
LAST-MODIFIED:20250322T221948Z
UID:7589-1748764800-1748779200@tildenparkgolfclub.org
SUMMARY:DIRECTORS CUP
DESCRIPTION:
URL:https://tildenparkgolfclub.org/event/directors-cup/
LOCATION:Tilden Park Golf Course\, 10 Golf Course Dr\, Berkeley\, CA\, 94708\, United States
ORGANIZER;CN="Will Bard":MAILTO:bardshark@aol.com
END:VEVENT
BEGIN:VEVENT
DTSTART;TZID=America/Los_Angeles:20250608T080000
DTEND;TZID=America/Los_Angeles:20250608T120000
DTSTAMP:20260419T112336
CREATED:20250322T222040Z
LAST-MODIFIED:20250322T222040Z
UID:7591-1749369600-1749384000@tildenparkgolfclub.org
SUMMARY:NCGA Sr. 4-Ball Net Qualifier
DESCRIPTION:
URL:https://tildenparkgolfclub.org/event/ncga-sr-4-ball-net-qualifier/
LOCATION:Tilden Park Golf Course\, 10 Golf Course Dr\, Berkeley\, CA\, 94708\, United States
ORGANIZER;CN="Will Bard":MAILTO:bardshark@aol.com
END:VEVENT
BEGIN:VEVENT
DTSTART;TZID=America/Los_Angeles:20250622T103000
DTEND;TZID=America/Los_Angeles:20250622T143000
DTSTAMP:20260419T112336
CREATED:20250322T222304Z
LAST-MODIFIED:20250322T222349Z
UID:7593-1750588200-1750602600@tildenparkgolfclub.org
SUMMARY:Santa Teresa Golf Club
DESCRIPTION:
URL:https://tildenparkgolfclub.org/event/santa-teresa-golf-club/
LOCATION:Santa Teresa Golf Club\, 260 Bernal Rd\, San Jose\, 95119\, United States
CATEGORIES:Away Day
ORGANIZER;CN="Will Bard":MAILTO:bardshark@aol.com
END:VEVENT
BEGIN:VEVENT
DTSTART;TZID=America/Los_Angeles:20250629T080000
DTEND;TZID=America/Los_Angeles:20250629T120000
DTSTAMP:20260419T112336
CREATED:20250322T222659Z
LAST-MODIFIED:20250322T222659Z
UID:7596-1751184000-1751198400@tildenparkgolfclub.org
SUMMARY:ALDO GALETTI & Club Championship Qualifier
DESCRIPTION:
URL:https://tildenparkgolfclub.org/event/aldo-galetti-club-championship-qualifier-2/
LOCATION:Tilden Park Golf Course\, 10 Golf Course Dr\, Berkeley\, CA\, 94708\, United States
CATEGORIES:Board Tournament
ORGANIZER;CN="Will Bard":MAILTO:bardshark@aol.com
END:VEVENT
END:VCALENDAR