BEGIN:VCALENDAR
VERSION:2.0
PRODID:-//Tilden Park Golf Club - ECPv6.15.20//NONSGML v1.0//EN
CALSCALE:GREGORIAN
METHOD:PUBLISH
X-WR-CALNAME:Tilden Park Golf Club
X-ORIGINAL-URL:https://tildenparkgolfclub.org
X-WR-CALDESC:Events for Tilden Park Golf Club
REFRESH-INTERVAL;VALUE=DURATION:PT1H
X-Robots-Tag:noindex
X-PUBLISHED-TTL:PT1H
BEGIN:VTIMEZONE
TZID:America/Los_Angeles
BEGIN:DAYLIGHT
TZOFFSETFROM:-0800
TZOFFSETTO:-0700
TZNAME:PDT
DTSTART:20230312T100000
END:DAYLIGHT
BEGIN:STANDARD
TZOFFSETFROM:-0700
TZOFFSETTO:-0800
TZNAME:PST
DTSTART:20231105T090000
END:STANDARD
BEGIN:DAYLIGHT
TZOFFSETFROM:-0800
TZOFFSETTO:-0700
TZNAME:PDT
DTSTART:20240310T100000
END:DAYLIGHT
BEGIN:STANDARD
TZOFFSETFROM:-0700
TZOFFSETTO:-0800
TZNAME:PST
DTSTART:20241103T090000
END:STANDARD
BEGIN:DAYLIGHT
TZOFFSETFROM:-0800
TZOFFSETTO:-0700
TZNAME:PDT
DTSTART:20250309T100000
END:DAYLIGHT
BEGIN:STANDARD
TZOFFSETFROM:-0700
TZOFFSETTO:-0800
TZNAME:PST
DTSTART:20251102T090000
END:STANDARD
END:VTIMEZONE
BEGIN:VEVENT
DTSTART;TZID=America/Los_Angeles:20241020T080000
DTEND;TZID=America/Los_Angeles:20241020T170000
DTSTAMP:20260420T061736
CREATED:20240822T043326Z
LAST-MODIFIED:20240822T043326Z
UID:7227-1729411200-1729443600@tildenparkgolfclub.org
SUMMARY:Vollmer Round 1
DESCRIPTION:VOLLMER CUP TROPHY\nStarted in 1938\, the Vollmer Cup Trophy (originally\, the August Vollmer Trophy and a 72-hole tournament) is a 36-Hole\, medal play Honor Board tournament. “The Vollmer” is named after August “Augie” Vollmer (1876-1955)\, one of Tilden Golf Club’s earliest members\, Berkeley’s Town Marshall (1905-1909)\, first Chief of Police (1909-1931)\, developer of Cal’s School of Criminology\, and one of the founders and a first board director of the East Bay Regional Park District. Vollmer Peak overlooking Tilden Park (formerly Bald Peak) is named in his honor. According to one source\, the actual “Vollmer Cup Perpetual Trophy” was last reportedly held by 1938 winner\, Oakland firefighter Dave Gray. \nFORMAT: Low total score over 36 holes\, individual medal play at handicap. \nCurrently RegisteredTim Easley
URL:https://tildenparkgolfclub.org/event/vollmer-round-1/
LOCATION:Tilden Park Golf Course\, 10 Golf Course Dr\, Berkeley\, CA\, 94708\, United States
CATEGORIES:Board Tournament
ORGANIZER;CN="Will Bard":MAILTO:bardshark@aol.com
END:VEVENT
BEGIN:VEVENT
DTSTART;TZID=America/Los_Angeles:20241027T080000
DTEND;TZID=America/Los_Angeles:20241027T170000
DTSTAMP:20260420T061736
CREATED:20240822T043613Z
LAST-MODIFIED:20240822T043613Z
UID:7229-1730016000-1730048400@tildenparkgolfclub.org
SUMMARY:Vollmer Round 2
DESCRIPTION:VOLLMER CUP TROPHY\nStarted in 1938\, the Vollmer Cup Trophy (originally\, the August Vollmer Trophy and a 72-hole tournament) is a 36-Hole\, medal play Honor Board tournament. “The Vollmer” is named after August “Augie” Vollmer (1876-1955)\, one of Tilden Golf Club’s earliest members\, Berkeley’s Town Marshall (1905-1909)\, first Chief of Police (1909-1931)\, developer of Cal’s School of Criminology\, and one of the founders and a first board director of the East Bay Regional Park District. Vollmer Peak overlooking Tilden Park (formerly Bald Peak) is named in his honor. According to one source\, the actual “Vollmer Cup Perpetual Trophy” was last reportedly held by 1938 winner\, Oakland firefighter Dave Gray. \nFORMAT: Low total score over 36 holes\, individual medal play at handicap. \n\n			Currently Registered\n				Be the first!
URL:https://tildenparkgolfclub.org/event/vollmer-round-2/
LOCATION:Tilden Park Golf Course\, 10 Golf Course Dr\, Berkeley\, CA\, 94708\, United States
CATEGORIES:Board Tournament
ORGANIZER;CN="Will Bard":MAILTO:bardshark@aol.com
END:VEVENT
END:VCALENDAR