BEGIN:VCALENDAR
VERSION:2.0
PRODID:-//Tilden Park Golf Club - ECPv6.15.20//NONSGML v1.0//EN
CALSCALE:GREGORIAN
METHOD:PUBLISH
X-ORIGINAL-URL:https://tildenparkgolfclub.org
X-WR-CALDESC:Events for Tilden Park Golf Club
REFRESH-INTERVAL;VALUE=DURATION:PT1H
X-Robots-Tag:noindex
X-PUBLISHED-TTL:PT1H
BEGIN:VTIMEZONE
TZID:America/Los_Angeles
BEGIN:DAYLIGHT
TZOFFSETFROM:-0800
TZOFFSETTO:-0700
TZNAME:PDT
DTSTART:20230312T100000
END:DAYLIGHT
BEGIN:STANDARD
TZOFFSETFROM:-0700
TZOFFSETTO:-0800
TZNAME:PST
DTSTART:20231105T090000
END:STANDARD
BEGIN:DAYLIGHT
TZOFFSETFROM:-0800
TZOFFSETTO:-0700
TZNAME:PDT
DTSTART:20240310T100000
END:DAYLIGHT
BEGIN:STANDARD
TZOFFSETFROM:-0700
TZOFFSETTO:-0800
TZNAME:PST
DTSTART:20241103T090000
END:STANDARD
BEGIN:DAYLIGHT
TZOFFSETFROM:-0800
TZOFFSETTO:-0700
TZNAME:PDT
DTSTART:20250309T100000
END:DAYLIGHT
BEGIN:STANDARD
TZOFFSETFROM:-0700
TZOFFSETTO:-0800
TZNAME:PST
DTSTART:20251102T090000
END:STANDARD
END:VTIMEZONE
BEGIN:VEVENT
DTSTART;TZID=America/Los_Angeles:20240414T080000
DTEND;TZID=America/Los_Angeles:20240414T170000
DTSTAMP:20260420T153411
CREATED:20240304T211652Z
LAST-MODIFIED:20240312T002643Z
UID:6373-1713081600-1713114000@tildenparkgolfclub.org
SUMMARY:NCGA Senior Net Qualifier
DESCRIPTION:Players must have reached their 55th birthday on or by June 24\, 2024 and have a numeric Handicap Index listed on their club’s Master Report on the date of registration. \nFormat: \nMen play from white tees\, women play from forward tees\n18 holes of Individual Stroke Play. Course handicap will be at 95%. \nQualifiers move on to play at Poppy Hills \n  \n  \nRegistrations are closed for this event
URL:https://tildenparkgolfclub.org/event/ncga-senior-net-qualifier/
LOCATION:Tilden Park Golf Course\, 10 Golf Course Dr\, Berkeley\, CA\, 94708\, United States
CATEGORIES:Home Tournament
ORGANIZER;CN="Will Bard":MAILTO:bardshark@aol.com
END:VEVENT
BEGIN:VEVENT
DTSTART;TZID=America/Los_Angeles:20240421T080000
DTEND;TZID=America/Los_Angeles:20240421T170000
DTSTAMP:20260420T153411
CREATED:20240304T212207Z
LAST-MODIFIED:20240304T212207Z
UID:6376-1713686400-1713718800@tildenparkgolfclub.org
SUMMARY:Ross Qualifier
DESCRIPTION:ROSS TROPHY \nThe Milton K. Ross Perpetual Trophy Honor Board tournament began in 1943 with a trophy donated by Milton Ross\, a Berkeley taxi company owner and known as the “golfing cabbie.” Ross was one of Tilden Park Golf Club’s earliest members\, playing most of his amateur rounds at Tilden. He became so enamored of golf that he dropped everything to become a pro golfer\, succeeding only to the extent of becoming an assistant pro at a few golf clubs and ending up in Las Vegas from whence he disappeared. \nFORMAT: Two person teams (members making up their own teams) play 18 holes of better-ball medal play at handicap. The 16 low net teams advance to a 72 hole\, better-ball match play competition. \n  \nRegistrations are closed for this event
URL:https://tildenparkgolfclub.org/event/ross-qualifier-2/
LOCATION:CA
CATEGORIES:Board Tournament
ORGANIZER;CN="Will Bard":MAILTO:bardshark@aol.com
END:VEVENT
BEGIN:VEVENT
DTSTART;TZID=America/Los_Angeles:20240428T080000
DTEND;TZID=America/Los_Angeles:20240428T170000
DTSTAMP:20260420T153411
CREATED:20240304T212738Z
LAST-MODIFIED:20240304T212738Z
UID:6378-1714291200-1714323600@tildenparkgolfclub.org
SUMMARY:Ross Semi Finals
DESCRIPTION:ROSS TROPHY \nThe Milton K. Ross Perpetual Trophy Honor Board tournament began in 1943 with a trophy donated by Milton Ross\, a Berkeley taxi company owner and known as the “golfing cabbie.” Ross was one of Tilden Park Golf Club’s earliest members\, playing most of his amateur rounds at Tilden. He became so enamored of golf that he dropped everything to become a pro golfer\, succeeding only to the extent of becoming an assistant pro at a few golf clubs and ending up in Las Vegas from whence he disappeared. \nFORMAT: Two person teams (members making up their own teams) play 18 holes of better-ball medal play at handicap. The 16 low net teams advance to a 72 hole\, better-ball match play competition. \nRegistrations are closed for this event
URL:https://tildenparkgolfclub.org/event/ross-semi-finals/
LOCATION:Tilden Park Golf Course\, 10 Golf Course Dr\, Berkeley\, CA\, 94708\, United States
CATEGORIES:Board Tournament
ORGANIZER;CN="Will Bard":MAILTO:bardshark@aol.com
END:VEVENT
END:VCALENDAR