BEGIN:VCALENDAR
VERSION:2.0
PRODID:-//Tilden Park Golf Club - ECPv6.15.20//NONSGML v1.0//EN
CALSCALE:GREGORIAN
METHOD:PUBLISH
X-ORIGINAL-URL:https://tildenparkgolfclub.org
X-WR-CALDESC:Events for Tilden Park Golf Club
REFRESH-INTERVAL;VALUE=DURATION:PT1H
X-Robots-Tag:noindex
X-PUBLISHED-TTL:PT1H
BEGIN:VTIMEZONE
TZID:America/Los_Angeles
BEGIN:DAYLIGHT
TZOFFSETFROM:-0800
TZOFFSETTO:-0700
TZNAME:PDT
DTSTART:20230312T100000
END:DAYLIGHT
BEGIN:STANDARD
TZOFFSETFROM:-0700
TZOFFSETTO:-0800
TZNAME:PST
DTSTART:20231105T090000
END:STANDARD
BEGIN:DAYLIGHT
TZOFFSETFROM:-0800
TZOFFSETTO:-0700
TZNAME:PDT
DTSTART:20240310T100000
END:DAYLIGHT
BEGIN:STANDARD
TZOFFSETFROM:-0700
TZOFFSETTO:-0800
TZNAME:PST
DTSTART:20241103T090000
END:STANDARD
BEGIN:DAYLIGHT
TZOFFSETFROM:-0800
TZOFFSETTO:-0700
TZNAME:PDT
DTSTART:20250309T100000
END:DAYLIGHT
BEGIN:STANDARD
TZOFFSETFROM:-0700
TZOFFSETTO:-0800
TZNAME:PST
DTSTART:20251102T090000
END:STANDARD
END:VTIMEZONE
BEGIN:VEVENT
DTSTART;TZID=America/Los_Angeles:20240303T080000
DTEND;TZID=America/Los_Angeles:20240303T170000
DTSTAMP:20260420T170920
CREATED:20231230T203556Z
LAST-MODIFIED:20240219T012418Z
UID:5999-1709452800-1709485200@tildenparkgolfclub.org
SUMMARY:Irene McGowan Tournament
DESCRIPTION:IRENE McGOWAN TROPHY  \nThis event has been postponed to 03-03-24. \nStarted in 1956\, this Honor Board tournament was named after Irene McGowan\, a waitress at the Tilden Park Golf Course who was well-loved by all the members and noted for her pies. Sadly\, she died when\, on her way to work\, her car ran off the road on a foggy morning. \nFORMAT: 18 holes of individual medal play at handicap.  Blue Tees \n  \nCurrently RegisteredMike Cooper Will Bard Nigel Harold Marc Lajoie Ronald Vincent
URL:https://tildenparkgolfclub.org/event/irene-mcgowan-tournament/
LOCATION:Tilden Park Golf Course\, 10 Golf Course Dr\, Berkeley\, CA\, 94708\, United States
CATEGORIES:Board Tournament
ORGANIZER;CN="Will Bard":MAILTO:bardshark@aol.com
END:VEVENT
BEGIN:VEVENT
DTSTART;TZID=America/Los_Angeles:20240310T103000
DTEND;TZID=America/Los_Angeles:20240310T170000
DTSTAMP:20260420T170920
CREATED:20231230T205702Z
LAST-MODIFIED:20231230T205702Z
UID:6003-1710066600-1710090000@tildenparkgolfclub.org
SUMMARY:Eagle Vines Golf Course
DESCRIPTION:Start time: 10:30 am \nFormat to be determined \nDon’t forget Daylight Saving time change \nCurrently RegisteredBob Burger Stacey Mackey Ron Vincent Will Bard Gordon Libby Matt Wilpolt Nigel Harold Jesse Sechak Bob Nelson Cameron Habel David Hom John Richards Robert Brunel
URL:https://tildenparkgolfclub.org/event/eagle-vines-golf-course/
LOCATION:CA
CATEGORIES:Away Day
ORGANIZER;CN="Will Bard":MAILTO:bardshark@aol.com
END:VEVENT
BEGIN:VEVENT
DTSTART;TZID=America/Los_Angeles:20240317T080000
DTEND;TZID=America/Los_Angeles:20240317T170000
DTSTAMP:20260420T170920
CREATED:20240310T020353Z
LAST-MODIFIED:20240314T175957Z
UID:6416-1710662400-1710694800@tildenparkgolfclub.org
SUMMARY:IRENE McGOWAN Honor Board Tournament
DESCRIPTION:The Irene McGowan Trophy\, a TPGC Honor Board tournament started in 1956 in memory of Irene McGowan\, a Tilden Park Golf Course waitress loved by TPGC members and noted for her pies. Format: Medal play\, low net at full handicap\, Blue Tees.\nParticiants: Marc LaJoie\, Nigel Harold\, Ron Vincent\, Mike Cooper\, Will Bard\, David Hom\n  \nRegistrations are closed for this event
URL:https://tildenparkgolfclub.org/event/irene-mcgowan-honor-board-tournament/
LOCATION:Tilden Park Golf Course\, 10 Golf Course Dr\, Berkeley\, CA\, 94708\, United States
CATEGORIES:Board Tournament
ORGANIZER;CN="Will Bard":MAILTO:bardshark@aol.com
END:VEVENT
BEGIN:VEVENT
DTSTART;TZID=America/Los_Angeles:20240324T080000
DTEND;TZID=America/Los_Angeles:20240324T170000
DTSTAMP:20260420T170920
CREATED:20231230T210805Z
LAST-MODIFIED:20240316T185119Z
UID:6005-1711267200-1711299600@tildenparkgolfclub.org
SUMMARY:NCGA NEB Zone Qualifier
DESCRIPTION:TPGC’s Qualifier for the NCGA Sr. Four-Ball Championship\nSunday\, April 14\, 2024\, 8:00am\nFirst played in 1967\, the NCGA Zone Championship is a four-person team event among other clubs in fourteen regional areas of Northern California.  Plumas Lake G&CC holds the record for the most wins with three (2008\, 2010 & 2019).  Four clubs have won twice: Palo Alto Hills (1968\, 1970)\, Del Rio G&CC (1969\, 2013)\, Kings CC (1977\, 2003) and Churn Creek GC (1993\, 2012). No club has ever repeated as champion.\nFormat:  Individual stroke play from White Tees at 85% handicap.\nParticiants: Mike Cooper\, Will Bard\nTo sign up for this august event\, one can register on the club’s website or send an email to TildenGolf@gmail.com.\n  \n\n\n\n\nPlay will be to a maximum of 18.4 for men and 25.4 for women. \nWinners Play Poppy Hills and Del Monte \n\n\n\n\nCurrently RegisteredBob Burger Scott Parker Mike Cooper Marc Lajoie Paul Lozito
URL:https://tildenparkgolfclub.org/event/ncga-neb-zone-qualifier/
LOCATION:Tilden Park Golf Course\, 10 Golf Course Dr\, Berkeley\, CA\, 94708\, United States
CATEGORIES:Home Tournament
ORGANIZER;CN="Will Bard":MAILTO:bardshark@aol.com
END:VEVENT
END:VCALENDAR