BEGIN:VCALENDAR
VERSION:2.0
PRODID:-//Tilden Park Golf Club - ECPv6.15.20//NONSGML v1.0//EN
CALSCALE:GREGORIAN
METHOD:PUBLISH
X-WR-CALNAME:Tilden Park Golf Club
X-ORIGINAL-URL:https://tildenparkgolfclub.org
X-WR-CALDESC:Events for Tilden Park Golf Club
REFRESH-INTERVAL;VALUE=DURATION:PT1H
X-Robots-Tag:noindex
X-PUBLISHED-TTL:PT1H
BEGIN:VTIMEZONE
TZID:America/Los_Angeles
BEGIN:DAYLIGHT
TZOFFSETFROM:-0800
TZOFFSETTO:-0700
TZNAME:PDT
DTSTART:20220313T100000
END:DAYLIGHT
BEGIN:STANDARD
TZOFFSETFROM:-0700
TZOFFSETTO:-0800
TZNAME:PST
DTSTART:20221106T090000
END:STANDARD
BEGIN:DAYLIGHT
TZOFFSETFROM:-0800
TZOFFSETTO:-0700
TZNAME:PDT
DTSTART:20230312T100000
END:DAYLIGHT
BEGIN:STANDARD
TZOFFSETFROM:-0700
TZOFFSETTO:-0800
TZNAME:PST
DTSTART:20231105T090000
END:STANDARD
BEGIN:DAYLIGHT
TZOFFSETFROM:-0800
TZOFFSETTO:-0700
TZNAME:PDT
DTSTART:20240310T100000
END:DAYLIGHT
BEGIN:STANDARD
TZOFFSETFROM:-0700
TZOFFSETTO:-0800
TZNAME:PST
DTSTART:20241103T090000
END:STANDARD
END:VTIMEZONE
BEGIN:VEVENT
DTSTART;TZID=America/Los_Angeles:20231001T113000
DTEND;TZID=America/Los_Angeles:20231001T170000
DTSTAMP:20260421T040553
CREATED:20230915T235313Z
LAST-MODIFIED:20230916T001348Z
UID:5455-1696159800-1696179600@tildenparkgolfclub.org
SUMMARY:Pacific Grove Away #2 - The Spyglass Tournament - October 1st
DESCRIPTION:Join us for the first of two outings at Pacific Grove Golf Links — the working man’s Pebble Beach. On Saturday\, September 30th at 11:30 AM we will hold this warm up outing in Monterey. \nThe cost is $80 to walk and $100 to ride and includes greens fees\, prize funds and closest to the pin. Register online and let us know whether you would like to walk or ride. \nNote: to pay online\, go to the registration page and under Upcoming Events select View Calendar. Then click the purchase button on the right. \nA Drink Ticket and Munchies will be provided! \nCurrently RegisteredJohn Richards Ron Vincent Nigel Harold
URL:https://tildenparkgolfclub.org/event/pacific-grove-2-the-spyglass-tournament/
LOCATION:Pacific Grove Golf Links\, 77 Asilomar Blvd.\, Pacific Grove\, CA\, 93950\, United States
ORGANIZER;CN="Will Bard":MAILTO:bardshark@aol.com
END:VEVENT
END:VCALENDAR