BEGIN:VCALENDAR
VERSION:2.0
PRODID:-//Tilden Park Golf Club - ECPv6.15.20//NONSGML v1.0//EN
CALSCALE:GREGORIAN
METHOD:PUBLISH
X-ORIGINAL-URL:https://tildenparkgolfclub.org
X-WR-CALDESC:Events for Tilden Park Golf Club
REFRESH-INTERVAL;VALUE=DURATION:PT1H
X-Robots-Tag:noindex
X-PUBLISHED-TTL:PT1H
BEGIN:VTIMEZONE
TZID:America/Los_Angeles
BEGIN:DAYLIGHT
TZOFFSETFROM:-0800
TZOFFSETTO:-0700
TZNAME:PDT
DTSTART:20220313T100000
END:DAYLIGHT
BEGIN:STANDARD
TZOFFSETFROM:-0700
TZOFFSETTO:-0800
TZNAME:PST
DTSTART:20221106T090000
END:STANDARD
BEGIN:DAYLIGHT
TZOFFSETFROM:-0800
TZOFFSETTO:-0700
TZNAME:PDT
DTSTART:20230312T100000
END:DAYLIGHT
BEGIN:STANDARD
TZOFFSETFROM:-0700
TZOFFSETTO:-0800
TZNAME:PST
DTSTART:20231105T090000
END:STANDARD
BEGIN:DAYLIGHT
TZOFFSETFROM:-0800
TZOFFSETTO:-0700
TZNAME:PDT
DTSTART:20240310T100000
END:DAYLIGHT
BEGIN:STANDARD
TZOFFSETFROM:-0700
TZOFFSETTO:-0800
TZNAME:PST
DTSTART:20241103T090000
END:STANDARD
END:VTIMEZONE
BEGIN:VEVENT
DTSTART;TZID=America/Los_Angeles:20230813T080000
DTEND;TZID=America/Los_Angeles:20230813T140000
DTSTAMP:20260421T083221
CREATED:20230810T040842Z
LAST-MODIFIED:20230810T040842Z
UID:5111-1691913600-1691935200@tildenparkgolfclub.org
SUMMARY:NCGA Net Am Qualifier
DESCRIPTION:Join us on Sunday\, August 13th at 8 AM for the last NCGA qualifier of the year. The Tilden Park Golf Course is in great shape following the Bay Regional \nCurrently RegisteredMike Cooper Tim Easley Ron Vincent Stacey Mackey Chris Utter
URL:https://tildenparkgolfclub.org/event/ncga-net-am-qualifier/
LOCATION:Tilden Park Golf Course\, 10 Golf Course Dr\, Berkeley\, CA\, 94708\, United States
ORGANIZER;CN="Will Bard":MAILTO:bardshark@aol.com
END:VEVENT
BEGIN:VEVENT
DTSTART;TZID=America/Los_Angeles:20230820T100000
DTEND;TZID=America/Los_Angeles:20230820T160000
DTSTAMP:20260421T083221
CREATED:20230810T041309Z
LAST-MODIFIED:20230810T041309Z
UID:5113-1692525600-1692547200@tildenparkgolfclub.org
SUMMARY:Indian Valley Away Tournament
DESCRIPTION:Join us for the next Away Tournament at Indian Valley Golf Course in Novato. \nWhite tees.  Entry fee is $90 (includes prize fund\, cart\, and range balls). \n  \nCurrently RegisteredBill Glass Stacey Mackey Chris Utter Robert Knox Gordon Libby Ron Vincent
URL:https://tildenparkgolfclub.org/event/indian-valley-away-tournament-2/
LOCATION:Indian Valley Golf Course\, 3035 Novato Blvd.\, Novato\, CA\, 94948\, United States
ORGANIZER;CN="Will Bard":MAILTO:bardshark@aol.com
END:VEVENT
END:VCALENDAR