BEGIN:VCALENDAR
VERSION:2.0
PRODID:-//Tilden Park Golf Club - ECPv6.15.20//NONSGML v1.0//EN
CALSCALE:GREGORIAN
METHOD:PUBLISH
X-ORIGINAL-URL:https://tildenparkgolfclub.org
X-WR-CALDESC:Events for Tilden Park Golf Club
REFRESH-INTERVAL;VALUE=DURATION:PT1H
X-Robots-Tag:noindex
X-PUBLISHED-TTL:PT1H
BEGIN:VTIMEZONE
TZID:America/Los_Angeles
BEGIN:DAYLIGHT
TZOFFSETFROM:-0800
TZOFFSETTO:-0700
TZNAME:PDT
DTSTART:20220313T100000
END:DAYLIGHT
BEGIN:STANDARD
TZOFFSETFROM:-0700
TZOFFSETTO:-0800
TZNAME:PST
DTSTART:20221106T090000
END:STANDARD
BEGIN:DAYLIGHT
TZOFFSETFROM:-0800
TZOFFSETTO:-0700
TZNAME:PDT
DTSTART:20230312T100000
END:DAYLIGHT
BEGIN:STANDARD
TZOFFSETFROM:-0700
TZOFFSETTO:-0800
TZNAME:PST
DTSTART:20231105T090000
END:STANDARD
BEGIN:DAYLIGHT
TZOFFSETFROM:-0800
TZOFFSETTO:-0700
TZNAME:PDT
DTSTART:20240310T100000
END:DAYLIGHT
BEGIN:STANDARD
TZOFFSETFROM:-0700
TZOFFSETTO:-0800
TZNAME:PST
DTSTART:20241103T090000
END:STANDARD
END:VTIMEZONE
BEGIN:VEVENT
DTSTART;TZID=America/Los_Angeles:20230122T090000
DTEND;TZID=America/Los_Angeles:20230122T140000
DTSTAMP:20260421T185911
CREATED:20230115T062501Z
LAST-MODIFIED:20230116T162804Z
UID:3862-1674378000-1674396000@tildenparkgolfclub.org
SUMMARY:Lake Chabot Golf Course
DESCRIPTION:Away at Lake Chabot Golf Course in Oakland \nCurrently RegisteredScott Parker John Richards Michael Choi Stacey Mackey Bill Glass Bob Burger Ron Vincent
URL:https://tildenparkgolfclub.org/event/lake-chabot-golf-course/
LOCATION:Lake Chabot Golf Course\, 11450 Golf Links Rd\, Oakland\, CA\, 94605\, United States
END:VEVENT
BEGIN:VEVENT
DTSTART;TZID=America/Los_Angeles:20230129T103000
DTEND;TZID=America/Los_Angeles:20230129T160000
DTSTAMP:20260421T185911
CREATED:20230118T183027Z
LAST-MODIFIED:20230118T183027Z
UID:3870-1674988200-1675008000@tildenparkgolfclub.org
SUMMARY:Away @ Eagle Vines
DESCRIPTION:Join us for an away tournament at Eagle Vines Golf Course on January 29th. The cost will be $80 and includes Green Fees\, Cart and Range Balls. \nCurrently RegisteredJesse Sechak Stacey Mackey Will Bard Michael Choi Michael Merritt John Richards Bob Nelson Ron Vincent
URL:https://tildenparkgolfclub.org/event/away-eagle-vines/
LOCATION:CA
END:VEVENT
END:VCALENDAR