BEGIN:VCALENDAR
VERSION:2.0
PRODID:-//Tilden Park Golf Club - ECPv6.15.20//NONSGML v1.0//EN
CALSCALE:GREGORIAN
METHOD:PUBLISH
X-WR-CALNAME:Tilden Park Golf Club
X-ORIGINAL-URL:https://tildenparkgolfclub.org
X-WR-CALDESC:Events for Tilden Park Golf Club
REFRESH-INTERVAL;VALUE=DURATION:PT1H
X-Robots-Tag:noindex
X-PUBLISHED-TTL:PT1H
BEGIN:VTIMEZONE
TZID:America/Los_Angeles
BEGIN:DAYLIGHT
TZOFFSETFROM:-0800
TZOFFSETTO:-0700
TZNAME:PDT
DTSTART:20200308T100000
END:DAYLIGHT
BEGIN:STANDARD
TZOFFSETFROM:-0700
TZOFFSETTO:-0800
TZNAME:PST
DTSTART:20201101T090000
END:STANDARD
BEGIN:DAYLIGHT
TZOFFSETFROM:-0800
TZOFFSETTO:-0700
TZNAME:PDT
DTSTART:20210314T100000
END:DAYLIGHT
BEGIN:STANDARD
TZOFFSETFROM:-0700
TZOFFSETTO:-0800
TZNAME:PST
DTSTART:20211107T090000
END:STANDARD
BEGIN:DAYLIGHT
TZOFFSETFROM:-0800
TZOFFSETTO:-0700
TZNAME:PDT
DTSTART:20220313T100000
END:DAYLIGHT
BEGIN:STANDARD
TZOFFSETFROM:-0700
TZOFFSETTO:-0800
TZNAME:PST
DTSTART:20221106T090000
END:STANDARD
END:VTIMEZONE
BEGIN:VTIMEZONE
TZID:America/Los_Angeles
BEGIN:DAYLIGHT
TZOFFSETFROM:-0800
TZOFFSETTO:-0700
TZNAME:PDT
DTSTART:20200308T100000
END:DAYLIGHT
BEGIN:STANDARD
TZOFFSETFROM:-0700
TZOFFSETTO:-0800
TZNAME:PST
DTSTART:20201101T090000
END:STANDARD
BEGIN:DAYLIGHT
TZOFFSETFROM:-0800
TZOFFSETTO:-0700
TZNAME:PDT
DTSTART:20210314T100000
END:DAYLIGHT
BEGIN:STANDARD
TZOFFSETFROM:-0700
TZOFFSETTO:-0800
TZNAME:PST
DTSTART:20211107T090000
END:STANDARD
BEGIN:DAYLIGHT
TZOFFSETFROM:-0800
TZOFFSETTO:-0700
TZNAME:PDT
DTSTART:20220313T100000
END:DAYLIGHT
BEGIN:STANDARD
TZOFFSETFROM:-0700
TZOFFSETTO:-0800
TZNAME:PST
DTSTART:20221106T090000
END:STANDARD
END:VTIMEZONE
BEGIN:VEVENT
DTSTART;TZID=America/Los_Angeles:20211031T100000
DTEND;TZID=America/Los_Angeles:20211031T170000
DTSTAMP:20260419T212836
CREATED:20211015T010105Z
LAST-MODIFIED:20211015T010710Z
UID:2936-1635674400-1635699600@tildenparkgolfclub.org
SUMMARY:Rancho Solano Away Day
DESCRIPTION:This is a Stableford Event …Great Course \n  \nCurrently RegisteredRyan Costello Guest Jesse Tim Easley Bob. Burger Paul Lozito Brad Kirschman Will Bard Scott Parker Ernst Wintter Jesse Sechak John Richards Richard Patrick Chris Utter Mike Cooper Bill Glass Stacey Mackey
URL:https://tildenparkgolfclub.org/event/rancho-solano-away-day/
LOCATION:Rancho Solano\, 3950 Paradise Valley Drive\, Fairfield\, CA\, 94533\, United States
END:VEVENT
BEGIN:VEVENT
DTSTART;TZID=America/Los_Angeles:20210912T080000
DTEND;TZID=America/Los_Angeles:20210912T133000
DTSTAMP:20260419T212836
CREATED:20210904T210356Z
LAST-MODIFIED:20210909T180140Z
UID:2429-1631433600-1631453400@tildenparkgolfclub.org
SUMMARY:Poppy Hills - Spyglass Trophy
DESCRIPTION:The annual Spyglass Trophy Tournament will be held at Poppy Hills this year on Sunday\, September 12th. \n  \nCurrently RegisteredJoe Casella Fred Harder Steve Wessels Gordon Libby Daniel Judd Chris Utter John Richards Nigel Harold Barry Witt Brett Camarda Kenneth Chan Ron Vincent
URL:https://tildenparkgolfclub.org/event/poppy-hills-spyglass-trophy/
LOCATION:Poppy Hills Golf Course\, 3200 Lopez Road\, Pebble Beach\, CA\, 93953\, United States
CATEGORIES:Board Tournament
END:VEVENT
BEGIN:VEVENT
DTSTART;TZID=America/Los_Angeles:20210911T132300
DTEND;TZID=America/Los_Angeles:20210911T170000
DTSTAMP:20260419T212836
CREATED:20210904T210021Z
LAST-MODIFIED:20210910T031112Z
UID:2427-1631366580-1631379600@tildenparkgolfclub.org
SUMMARY:Away @ Pacific Grove
DESCRIPTION:An Away Tournament will be played at Pacific Grove on Saturday\, September 11th. This is the warm up round before the Spyglass Trophy Tournament at Poppy Hills \nCurrently RegisteredNigel Harold Joe Casella Fred Harder Steve Wessels Gordon Libby Daniel Judd Ron Vincent Chris Utter John Richards Nigel Harold Barry Witt Brett Camarda Kenneth Chan
URL:https://tildenparkgolfclub.org/event/away-pacific-grove/
LOCATION:Pacific Grove Golf Links\, 77 Asilomar Blvd.\, Pacific Grove\, CA\, 93950\, United States
CATEGORIES:Away Day
END:VEVENT
END:VCALENDAR