BEGIN:VCALENDAR
VERSION:2.0
PRODID:-//Tilden Park Golf Club - ECPv6.15.20//NONSGML v1.0//EN
CALSCALE:GREGORIAN
METHOD:PUBLISH
X-WR-CALNAME:Tilden Park Golf Club
X-ORIGINAL-URL:https://tildenparkgolfclub.org
X-WR-CALDESC:Events for Tilden Park Golf Club
REFRESH-INTERVAL;VALUE=DURATION:PT1H
X-Robots-Tag:noindex
X-PUBLISHED-TTL:PT1H
BEGIN:VTIMEZONE
TZID:America/Los_Angeles
BEGIN:DAYLIGHT
TZOFFSETFROM:-0800
TZOFFSETTO:-0700
TZNAME:PDT
DTSTART:20240310T100000
END:DAYLIGHT
BEGIN:STANDARD
TZOFFSETFROM:-0700
TZOFFSETTO:-0800
TZNAME:PST
DTSTART:20241103T090000
END:STANDARD
BEGIN:DAYLIGHT
TZOFFSETFROM:-0800
TZOFFSETTO:-0700
TZNAME:PDT
DTSTART:20250309T100000
END:DAYLIGHT
BEGIN:STANDARD
TZOFFSETFROM:-0700
TZOFFSETTO:-0800
TZNAME:PST
DTSTART:20251102T090000
END:STANDARD
BEGIN:DAYLIGHT
TZOFFSETFROM:-0800
TZOFFSETTO:-0700
TZNAME:PDT
DTSTART:20260308T100000
END:DAYLIGHT
BEGIN:STANDARD
TZOFFSETFROM:-0700
TZOFFSETTO:-0800
TZNAME:PST
DTSTART:20261101T090000
END:STANDARD
BEGIN:DAYLIGHT
TZOFFSETFROM:-0800
TZOFFSETTO:-0700
TZNAME:PDT
DTSTART:20270314T100000
END:DAYLIGHT
BEGIN:STANDARD
TZOFFSETFROM:-0700
TZOFFSETTO:-0800
TZNAME:PST
DTSTART:20271107T090000
END:STANDARD
END:VTIMEZONE
BEGIN:VEVENT
DTSTART;TZID=America/Los_Angeles:20251210T180000
DTEND;TZID=America/Los_Angeles:20251210T180000
DTSTAMP:20260419T095908
CREATED:20250730T204956Z
LAST-MODIFIED:20251202T213815Z
UID:7767-1765389600-1765389600@tildenparkgolfclub.org
SUMMARY:Zoom - Board Meeting
DESCRIPTION:Comments\, questions and all feedbacks can be emailed to tildengolf@gmail.com
URL:https://tildenparkgolfclub.org/event/board-meeting-3/
LOCATION:CA
CATEGORIES:Board Meeting
END:VEVENT
BEGIN:VEVENT
DTSTART;TZID=America/Los_Angeles:20251214T103000
DTEND;TZID=America/Los_Angeles:20251214T170000
DTSTAMP:20260419T095908
CREATED:20250527T155927Z
LAST-MODIFIED:20250730T205605Z
UID:7715-1765708200-1765731600@tildenparkgolfclub.org
SUMMARY:WENTE VINEYARDS
DESCRIPTION:
URL:https://tildenparkgolfclub.org/event/wente-vineyards-2/
LOCATION:The Course at Wente Vineyards\, 5050 Arroyo Road\, Livermore\, CA\, 94550\, United States
CATEGORIES:Away Day
ORGANIZER;CN="Matt Wilpolt":MAILTO:mattwwilpolt@yahoo.com
END:VEVENT
BEGIN:VEVENT
DTSTART;TZID=America/Los_Angeles:20251221T080000
DTEND;TZID=America/Los_Angeles:20251221T170000
DTSTAMP:20260419T095908
CREATED:20250527T160012Z
LAST-MODIFIED:20250730T220352Z
UID:7717-1766304000-1766336400@tildenparkgolfclub.org
SUMMARY:CHRISTMAS GOOSE SHOOT & YEAR END PARTY
DESCRIPTION:
URL:https://tildenparkgolfclub.org/event/christmas-goose-shoot-year-end-party/
LOCATION:Tilden Park Golf Course\, 10 Golf Course Dr\, Berkeley\, CA\, 94708\, United States
CATEGORIES:Home Tournament
ORGANIZER;CN="Rick Patrick":MAILTO:Rickp510@gmail.com
END:VEVENT
BEGIN:VEVENT
DTSTART;TZID=America/Los_Angeles:20251221T133000
DTEND;TZID=America/Los_Angeles:20251221T170000
DTSTAMP:20260419T095908
CREATED:20251018T054823Z
LAST-MODIFIED:20251018T054952Z
UID:7899-1766323800-1766336400@tildenparkgolfclub.org
SUMMARY:Sign up for Year End Party Only
DESCRIPTION:If you are not playing Christmas Goose Shoot and want to attend the Year end Party only\, please register here.  If you are playing Christmas Goose Shoot\, we will count your attendance for the party\, as the Year End Party will follow immediately after golf.
URL:https://tildenparkgolfclub.org/event/sign-up-for-year-end-party-only/
LOCATION:Tilden Park Golf Course\, 10 Golf Course Dr\, Berkeley\, CA\, 94708\, United States
ORGANIZER;CN="Will Bard":MAILTO:bardshark@aol.com
END:VEVENT
BEGIN:VEVENT
DTSTART;TZID=America/Los_Angeles:20260111T080000
DTEND;TZID=America/Los_Angeles:20260111T133000
DTSTAMP:20260419T095908
CREATED:20260103T204250Z
LAST-MODIFIED:20260108T172914Z
UID:8039-1768118400-1768138200@tildenparkgolfclub.org
SUMMARY:The OTTO ZEUS
DESCRIPTION:OTTO ZEUS TROPHY\nThis Honor Board tournament began in 1959 and is named after the first secretary of the Tilden Park Golf Club. \nFORMAT: Four person teams play 18 holes of best ball medal play at handicap. \n  \nRegistrations are closed for this event
URL:https://tildenparkgolfclub.org/event/the-otto-zues/
LOCATION:Tilden Park Golf Course\, 10 Golf Course Dr\, Berkeley\, CA\, 94708\, United States
ORGANIZER;CN="Rick Patrick":MAILTO:Rickp510@gmail.com
END:VEVENT
BEGIN:VEVENT
DTSTART;TZID=America/Los_Angeles:20260201T103000
DTEND;TZID=America/Los_Angeles:20260201T150000
DTSTAMP:20260419T095908
CREATED:20251106T003159Z
LAST-MODIFIED:20251106T003159Z
UID:7945-1769941800-1769958000@tildenparkgolfclub.org
SUMMARY:Rio Vista
DESCRIPTION:
URL:https://tildenparkgolfclub.org/event/rio-vista/
LOCATION:Rio Vista\, 1000 Summerset Dr\, Rio Vista\, CA\, 94571\, United States
CATEGORIES:Away Day
ORGANIZER;CN="Rick Patrick":MAILTO:Rickp510@gmail.com
END:VEVENT
BEGIN:VEVENT
DTSTART;TZID=America/Los_Angeles:20260222T074000
DTEND;TZID=America/Los_Angeles:20260222T130000
DTSTAMP:20260419T095908
CREATED:20260122T154057Z
LAST-MODIFIED:20260213T003307Z
UID:8072-1771746000-1771765200@tildenparkgolfclub.org
SUMMARY:NCGA ZONE QUALIFIER
DESCRIPTION:NCGA ZONE QUALIFIER. TOP 4 FINISHERS ADVANCE TO MONTEREY \nFirst held in 1967\, the NCGA Zone Championship is a four-person team event for Regular Clubs. Fourteen regional championships are staged at Poppy Hills and Del Monte GC—scores are based on the two best net scores of the four-person team– with the champion and runner-up of each regional qualifying for the final championship.
URL:https://tildenparkgolfclub.org/event/ncga-zone-qualifier/
LOCATION:Tilden Park Golf Course\, 10 Golf Course Dr\, Berkeley\, CA\, 94708\, United States
CATEGORIES:Home Tournament
ORGANIZER;CN="Rick Patrick":MAILTO:Rickp510@gmail.com
END:VEVENT
BEGIN:VEVENT
DTSTART;TZID=America/Los_Angeles:20260308T080000
DTEND;TZID=America/Los_Angeles:20260308T130000
DTSTAMP:20260419T095908
CREATED:20260107T223758Z
LAST-MODIFIED:20260107T223758Z
UID:8073-1772956800-1772974800@tildenparkgolfclub.org
SUMMARY:IRENE McGOWAN Honor Board Tournament
DESCRIPTION:The Irene McGowan Trophy\, a TPGC Honor Board tournament started in 1956 in memory of Irene McGowan\, a Tilden Park Golf Course waitress loved by TPGC members and noted for her pies. Format: Medal play\, low net at full handicap\, Blue Tees.
URL:https://tildenparkgolfclub.org/event/irene-mcgowan-honor-board-tournament-2/
LOCATION:Tilden Park Golf Course\, 10 Golf Course Dr\, Berkeley\, CA\, 94708\, United States
CATEGORIES:Board Tournament
ORGANIZER;CN="Rick Patrick":MAILTO:Rickp510@gmail.com
END:VEVENT
BEGIN:VEVENT
DTSTART;TZID=America/Los_Angeles:20260315T081000
DTEND;TZID=America/Los_Angeles:20260315T130000
DTSTAMP:20260419T095908
CREATED:20260306T191940Z
LAST-MODIFIED:20260306T192008Z
UID:8223-1773562200-1773579600@tildenparkgolfclub.org
SUMMARY:Sunday Skins / Just for Fun
DESCRIPTION:We have arranged for five tee times for NEXT Sunday\, March 15. I figure in lieu of the cancelled away at Lone Tree we can have a “Sunday Skins / Just for Fun” outing at our home course. Tee times start at 8:10am.
URL:https://tildenparkgolfclub.org/event/sunday-skins-just-for-fun/
LOCATION:Tilden Park Golf Course\, 10 Golf Course Dr\, Berkeley\, CA\, 94708\, United States
CATEGORIES:Open Play
ORGANIZER;CN="Matt Wilpolt":MAILTO:mattwwilpolt@yahoo.com
END:VEVENT
BEGIN:VEVENT
DTSTART;TZID=America/Los_Angeles:20260315T100000
DTEND;TZID=America/Los_Angeles:20260315T150000
DTSTAMP:20260419T095908
CREATED:20260107T223759Z
LAST-MODIFIED:20260224T044054Z
UID:8074-1773568800-1773586800@tildenparkgolfclub.org
SUMMARY:Lone Tree [Event Canceled]
DESCRIPTION:THIS EVENT HAS BEEN CANCELED \nAfter yesterday’s Zone qualifier\, I was advised by member John McDaniel that he played Lone Tree last week\, and found it to be in less than desirable conditions. Apparently there is some work in progress there\, and things are not conducive to an enjoyable golfing experience\, which of course we want to provide for everyone. Accordingly\, I have decided to cancel the March 15 away tournament at Lone Tree GC. I hope nobody is too disappointed. \nHowever\, I did make a call or two\, and have come up with a replacement tournament! On Sunday March 29\, which is currently an “open” date on the schedule\, we will be playing at Diablo Creek GC. So\, scrub the March 15 event at Lone Tree GC from your calendars\, and add in Diablo Creek on the 29th instead. Hope to see another great turnout!
URL:https://tildenparkgolfclub.org/event/lone-tree/
LOCATION:Lone Tree\, 4800 Golf Course Rd\, Antioch\, CA\, 94531\, United States
CATEGORIES:Away Day
ORGANIZER;CN="Matt Wilpolt":MAILTO:mattwwilpolt@yahoo.com
END:VEVENT
BEGIN:VEVENT
DTSTART;TZID=America/Los_Angeles:20260322T080000
DTEND;TZID=America/Los_Angeles:20260322T130000
DTSTAMP:20260419T095908
CREATED:20260107T223800Z
LAST-MODIFIED:20260107T223800Z
UID:8075-1774166400-1774184400@tildenparkgolfclub.org
SUMMARY:NCGA  4 - Ball Net Qualifier
DESCRIPTION:TOP TEAM ADVANCES TO SECTIONAL QUALIFIER
URL:https://tildenparkgolfclub.org/event/ncga-4-ball-net-qualifier-4/
LOCATION:Tilden Park Golf Course\, 10 Golf Course Dr\, Berkeley\, CA\, 94708\, United States
CATEGORIES:Home Tournament
ORGANIZER;CN="Rick Patrick":MAILTO:Rickp510@gmail.com
END:VEVENT
BEGIN:VEVENT
DTSTART;TZID=America/Los_Angeles:20260329T100000
DTEND;TZID=America/Los_Angeles:20260329T150000
DTSTAMP:20260419T095908
CREATED:20260224T044436Z
LAST-MODIFIED:20260224T044436Z
UID:8214-1774778400-1774796400@tildenparkgolfclub.org
SUMMARY:Diablo Creek
DESCRIPTION:
URL:https://tildenparkgolfclub.org/event/diablo-creek/
LOCATION:Diablo Creek\, 4050 Port Chicago Hwy\, Concord\, CA\, 94520\, United States
ORGANIZER;CN="Matt Wilpolt":MAILTO:mattwwilpolt@yahoo.com
END:VEVENT
BEGIN:VEVENT
DTSTART;TZID=America/Los_Angeles:20260412T080000
DTEND;TZID=America/Los_Angeles:20260412T084000
DTSTAMP:20260419T095908
CREATED:20260107T223801Z
LAST-MODIFIED:20260404T162428Z
UID:8076-1775980800-1775983200@tildenparkgolfclub.org
SUMMARY:NCGA SR NET QUALIFIER
DESCRIPTION:Format: \n\nMale: Age 55 and over as of June 22\, 2026\nPlay will be at 95% of the Course Handicap. Men will play from the WHITE tee markers\n\n  \nQualifying Sites \n\nEmpire Ranch GC: Folsom\, CA – May 26\nDel Monte GC: Monterey\, CA – May 28\nMetropolitan Golf Links: Oakland\, CA – June 1\nSunnyside Country Club: Fresno\, CA – June 2\nCoyote Creek GC (Valley Course): San Jose\, CA – June 3\n\nCurrently RegisteredWill Bard Heungmin Oh Chris Utter Chris Mast Bart Schultz Mike Bonkowski
URL:https://tildenparkgolfclub.org/event/ncga-sr-net-qualifier-2/
LOCATION:Tilden Park Golf Course\, 10 Golf Course Dr\, Berkeley\, CA\, 94708\, United States
CATEGORIES:Home Tournament
ORGANIZER;CN="Rick Patrick":MAILTO:Rickp510@gmail.com
END:VEVENT
BEGIN:VEVENT
DTSTART;TZID=America/Los_Angeles:20260419T090000
DTEND;TZID=America/Los_Angeles:20260419T140000
DTSTAMP:20260419T095908
CREATED:20260107T223806Z
LAST-MODIFIED:20260112T204151Z
UID:8077-1776589200-1776607200@tildenparkgolfclub.org
SUMMARY:Monarch Bay
DESCRIPTION:
URL:https://tildenparkgolfclub.org/event/monarch-bay/
LOCATION:Monarch Bay – Tony Lema Course\, 13800 Monarch Bay Drive\, \, CA\, San Leandro\, CA\, 94577\, United States
CATEGORIES:Away Day
ORGANIZER;CN="Matt Wilpolt":MAILTO:mattwwilpolt@yahoo.com
END:VEVENT
BEGIN:VEVENT
DTSTART;TZID=America/Los_Angeles:20260426T080000
DTEND;TZID=America/Los_Angeles:20260426T130000
DTSTAMP:20260419T095908
CREATED:20260107T223807Z
LAST-MODIFIED:20260107T223807Z
UID:8078-1777190400-1777208400@tildenparkgolfclub.org
SUMMARY:Ross Qualifier
DESCRIPTION:ROSS TROPHY\nThe Milton K. Ross Perpetual Trophy Honor Board tournament began in 1943 with a trophy donated by Milton Ross\, a Berkeley taxi company owner and known as the “golfing cabbie.” Ross was one of Tilden Park Golf Club’s earliest members\, playing most of his amateur rounds at Tilden. He became so enamored of golf that he dropped everything to become a pro golfer\, succeeding only to the extent of becoming an assistant pro at a few golf clubs and ending up in Las Vegas from whence he disappeared. \nFORMAT: Two person teams (members making up their own teams) play 18 holes of better-ball medal play at handicap. The 16 low net teams advance to a 72 hole\, better-ball match play competition.
URL:https://tildenparkgolfclub.org/event/ross-qualifier/
LOCATION:Tilden Park Golf Course\, 10 Golf Course Dr\, Berkeley\, CA\, 94708\, United States
CATEGORIES:Board Tournament
ORGANIZER;CN="Rick Patrick":MAILTO:Rickp510@gmail.com
END:VEVENT
BEGIN:VEVENT
DTSTART;TZID=America/Los_Angeles:20260503T080000
DTEND;TZID=America/Los_Angeles:20260503T130000
DTSTAMP:20260419T095908
CREATED:20260107T223808Z
LAST-MODIFIED:20260107T223808Z
UID:8079-1777795200-1777813200@tildenparkgolfclub.org
SUMMARY:Ross Semi Finals
DESCRIPTION:ROSS TROPHY\nThe Milton K. Ross Perpetual Trophy Honor Board tournament began in 1943 with a trophy donated by Milton Ross\, a Berkeley taxi company owner and known as the “golfing cabbie.” Ross was one of Tilden Park Golf Club’s earliest members\, playing most of his amateur rounds at Tilden. He became so enamored of golf that he dropped everything to become a pro golfer\, succeeding only to the extent of becoming an assistant pro at a few golf clubs and ending up in Las Vegas from whence he disappeared. \nFORMAT: Two person teams (members making up their own teams) play 18 holes of better-ball medal play at handicap. The 16 low net teams advance to a 72 hole\, better-ball match play competition.
URL:https://tildenparkgolfclub.org/event/ross-semi-finals-3/
LOCATION:Tilden Park Golf Course\, 10 Golf Course Dr\, Berkeley\, CA\, 94708\, United States
CATEGORIES:Board Tournament
ORGANIZER;CN="Rick Patrick":MAILTO:Rickp510@gmail.com
END:VEVENT
BEGIN:VEVENT
DTSTART;TZID=America/Los_Angeles:20260517T080000
DTEND;TZID=America/Los_Angeles:20260517T130000
DTSTAMP:20260419T095908
CREATED:20260107T223809Z
LAST-MODIFIED:20260107T223809Z
UID:8080-1779004800-1779022800@tildenparkgolfclub.org
SUMMARY:Ross Final
DESCRIPTION:ROSS TROPHY\nThe Milton K. Ross Perpetual Trophy Honor Board tournament began in 1943 with a trophy donated by Milton Ross\, a Berkeley taxi company owner and known as the “golfing cabbie.” Ross was one of Tilden Park Golf Club’s earliest members\, playing most of his amateur rounds at Tilden. He became so enamored of golf that he dropped everything to become a pro golfer\, succeeding only to the extent of becoming an assistant pro at a few golf clubs and ending up in Las Vegas from whence he disappeared. \nFORMAT: Two person teams (members making up their own teams) play 18 holes of better-ball medal play at handicap. The 16 low net teams advance to a 72 hole\, better-ball match play competition.
URL:https://tildenparkgolfclub.org/event/ross-final-2/
LOCATION:Tilden Park Golf Course\, 10 Golf Course Dr\, Berkeley\, CA\, 94708\, United States
CATEGORIES:Board Tournament
ORGANIZER;CN="Rick Patrick":MAILTO:Rickp510@gmail.com
END:VEVENT
BEGIN:VEVENT
DTSTART;TZID=America/Los_Angeles:20260531T080000
DTEND;TZID=America/Los_Angeles:20260531T130000
DTSTAMP:20260419T095908
CREATED:20260107T223810Z
LAST-MODIFIED:20260107T223810Z
UID:8081-1780214400-1780232400@tildenparkgolfclub.org
SUMMARY:NCGA SR 4 BALL QUALIFIER
DESCRIPTION:NCGA Senior 4-Ball Net Qualifier
URL:https://tildenparkgolfclub.org/event/ncga-sr-4-ball-qualifier/
LOCATION:Tilden Park Golf Course\, 10 Golf Course Dr\, Berkeley\, CA\, 94708\, United States
CATEGORIES:Home Tournament
ORGANIZER;CN="Rick Patrick":MAILTO:Rickp510@gmail.com
END:VEVENT
BEGIN:VEVENT
DTSTART;TZID=America/Los_Angeles:20260607T100000
DTEND;TZID=America/Los_Angeles:20260607T150000
DTSTAMP:20260419T095908
CREATED:20260107T223821Z
LAST-MODIFIED:20260112T204602Z
UID:8082-1780826400-1780844400@tildenparkgolfclub.org
SUMMARY:Paradise Valley
DESCRIPTION:
URL:https://tildenparkgolfclub.org/event/paradise-valley/
LOCATION:Paradise Valley\, 3950 Paradise Valley Dr\, Fairfield\, CA\, 94533\, United States
CATEGORIES:Away Day
ORGANIZER;CN="Matt Wilpolt":MAILTO:mattwwilpolt@yahoo.com
END:VEVENT
BEGIN:VEVENT
DTSTART;TZID=America/Los_Angeles:20260614T080000
DTEND;TZID=America/Los_Angeles:20260614T130000
DTSTAMP:20260419T095908
CREATED:20260107T223822Z
LAST-MODIFIED:20260107T223822Z
UID:8083-1781424000-1781442000@tildenparkgolfclub.org
SUMMARY:Aldo Galetti - Club Championship Qualifier
DESCRIPTION:ALDO GALLETTI MEDALIST TROPHY\nThis Honor Board tournament\, and special trophy\, was established by a previous club member and 4-time Club Champion\, Gordon Wilkes\, to honor Aldo Galletti\, a former Club member and previous Club Champion (1949). The Aldo is the only TPGC tournament where the winning score is placed next to the winner’s name. \nFORMAT: 18 holes of individual medal play\, without handicaps\, played concurrently as the Club Championship Qualifying Tournament.
URL:https://tildenparkgolfclub.org/event/aldo-galetti-club-championship-qualifier/
LOCATION:Tilden Park Golf Course\, 10 Golf Course Dr\, Berkeley\, CA\, 94708\, United States
CATEGORIES:Board Tournament
ORGANIZER;CN="Rick Patrick":MAILTO:Rickp510@gmail.com
END:VEVENT
BEGIN:VEVENT
DTSTART;TZID=America/Los_Angeles:20260628T080000
DTEND;TZID=America/Los_Angeles:20260628T130000
DTSTAMP:20260419T095908
CREATED:20260107T223823Z
LAST-MODIFIED:20260107T223823Z
UID:8084-1782633600-1782651600@tildenparkgolfclub.org
SUMMARY:Club Championship Round 1
DESCRIPTION:CLUB CHAMPIONSHIP TROPHY\nThe Club Championship has been contested since 1938 as a 4- round\, match play event at scratch\, First won by Foster McMullen\, other remarkable Club Champions are: Bill Ames (9)\, Bob George (5)\, John Richards (5)\, Les Johns (5)\, Gordon Wilkes (4)\, Ralph Hall (3)\, Jim Watson (3)\, Steve Wessels (3)\, and Richard Kho (3). \nFORMAT: 72 holes of individual match play at scratch. Depending on turnout following the Aldo Galletti/Club Championship Qualifier\, handicap flights may also be offered. RESTRICTIONS: Members who wish to compete in the Club Championship proper must be a Club member for at least one year and have competed in at least three Club tournaments.
URL:https://tildenparkgolfclub.org/event/club-championship-round-1-2/
LOCATION:Tilden Park Golf Course\, 10 Golf Course Dr\, Berkeley\, CA\, 94708\, United States
CATEGORIES:Board Tournament
ORGANIZER;CN="Rick Patrick":MAILTO:Rickp510@gmail.com
END:VEVENT
BEGIN:VEVENT
DTSTART;TZID=America/Los_Angeles:20260712T080000
DTEND;TZID=America/Los_Angeles:20260712T130000
DTSTAMP:20260419T095908
CREATED:20260107T223824Z
LAST-MODIFIED:20260107T223824Z
UID:8085-1783843200-1783861200@tildenparkgolfclub.org
SUMMARY:Club Championship Round 2
DESCRIPTION:CLUB CHAMPIONSHIP TROPHY\nThe Club Championship has been contested since 1938 as a 4- round\, match play event at scratch\, First won by Foster McMullen\, other remarkable Club Champions are: Bill Ames (9)\, Bob George (5)\, John Richards (5)\, Les Johns (5)\, Gordon Wilkes (4)\, Ralph Hall (3)\, Jim Watson (3)\, Steve Wessels (3)\, and Richard Kho (3). \nFORMAT: 72 holes of individual match play at scratch. Depending on turnout following the Aldo Galletti/Club Championship Qualifier\, handicap flights may also be offered. RESTRICTIONS: Members who wish to compete in the Club Championship proper must be a Club member for at least one year and have competed in at least three Club tournaments.
URL:https://tildenparkgolfclub.org/event/club-championship-round-2/
LOCATION:Tilden Park Golf Course\, 10 Golf Course Dr\, Berkeley\, CA\, 94708\, United States
CATEGORIES:Board Tournament
ORGANIZER;CN="Rick Patrick":MAILTO:Rickp510@gmail.com
END:VEVENT
BEGIN:VEVENT
DTSTART;TZID=America/Los_Angeles:20260719T080000
DTEND;TZID=America/Los_Angeles:20260719T130000
DTSTAMP:20260419T095908
CREATED:20260107T223825Z
LAST-MODIFIED:20260107T223825Z
UID:8086-1784448000-1784466000@tildenparkgolfclub.org
SUMMARY:Club Championship Semi Finals
DESCRIPTION:CLUB CHAMPIONSHIP TROPHY\nThe Club Championship has been contested since 1938 as a 4- round\, match play event at scratch\, First won by Foster McMullen\, other remarkable Club Champions are: Bill Ames (9)\, Bob George (5)\, John Richards (5)\, Les Johns (5)\, Gordon Wilkes (4)\, Ralph Hall (3)\, Jim Watson (3)\, Steve Wessels (3)\, and Richard Kho (3). \nFORMAT: 72 holes of individual match play at scratch. Depending on turnout following the Aldo Galletti/Club Championship Qualifier\, handicap flights may also be offered. RESTRICTIONS: Members who wish to compete in the Club Championship proper must be a Club member for at least one year and have competed in at least three Club tournaments.
URL:https://tildenparkgolfclub.org/event/club-championship-semi-finals/
LOCATION:Tilden Park Golf Course\, 10 Golf Course Dr\, Berkeley\, CA\, 94708\, United States
CATEGORIES:Board Tournament
ORGANIZER;CN="Rick Patrick":MAILTO:Rickp510@gmail.com
END:VEVENT
BEGIN:VEVENT
DTSTART;TZID=America/Los_Angeles:20260726T080000
DTEND;TZID=America/Los_Angeles:20260726T130000
DTSTAMP:20260419T095908
CREATED:20260107T223832Z
LAST-MODIFIED:20260107T223832Z
UID:8087-1785052800-1785070800@tildenparkgolfclub.org
SUMMARY:Club Championship Finals
DESCRIPTION:CLUB CHAMPIONSHIP TROPHY\nThe Club Championship has been contested since 1938 as a 4- round\, match play event at scratch\, First won by Foster McMullen\, other remarkable Club Champions are: Bill Ames (9)\, Bob George (5)\, John Richards (5)\, Les Johns (5)\, Gordon Wilkes (4)\, Ralph Hall (3)\, Jim Watson (3)\, Steve Wessels (3)\, and Richard Kho (3). \nFORMAT: 72 holes of individual match play at scratch. Depending on turnout following the Aldo Galletti/Club Championship Qualifier\, handicap flights may also be offered. RESTRICTIONS: Members who wish to compete in the Club Championship proper must be a Club member for at least one year and have competed in at least three Club tournaments.
URL:https://tildenparkgolfclub.org/event/club-championship-finals/
LOCATION:Tilden Park Golf Course\, 10 Golf Course Dr\, Berkeley\, CA\, 94708\, United States
CATEGORIES:Board Tournament
ORGANIZER;CN="Rick Patrick":MAILTO:Rickp510@gmail.com
END:VEVENT
BEGIN:VEVENT
DTSTART;TZID=America/Los_Angeles:20260809T080000
DTEND;TZID=America/Los_Angeles:20260809T130000
DTSTAMP:20260419T095908
CREATED:20260107T223833Z
LAST-MODIFIED:20260107T223833Z
UID:8088-1786262400-1786280400@tildenparkgolfclub.org
SUMMARY:NCGA NET AM QUALIFIER
DESCRIPTION:
URL:https://tildenparkgolfclub.org/event/ncga-net-am-qualifier-2/
LOCATION:Tilden Park Golf Course\, 10 Golf Course Dr\, Berkeley\, CA\, 94708\, United States
CATEGORIES:Home Tournament
ORGANIZER;CN="Rick Patrick":MAILTO:Rickp510@gmail.com
END:VEVENT
BEGIN:VEVENT
DTSTART;TZID=America/Los_Angeles:20260816T090000
DTEND;TZID=America/Los_Angeles:20260816T150000
DTSTAMP:20260419T095908
CREATED:20260107T223834Z
LAST-MODIFIED:20260112T204526Z
UID:8089-1786870800-1786892400@tildenparkgolfclub.org
SUMMARY:LAS POSITAS
DESCRIPTION:
URL:https://tildenparkgolfclub.org/event/las-positas/
LOCATION:Las Positas\, 917 Clubhouse Dr\, Livermore\, CA\, 94551\, United States
CATEGORIES:Away Day
ORGANIZER;CN="Matt Wilpolt":MAILTO:mattwwilpolt@yahoo.com
END:VEVENT
BEGIN:VEVENT
DTSTART;TZID=America/Los_Angeles:20260823T080000
DTEND;TZID=America/Los_Angeles:20260823T130000
DTSTAMP:20260419T095908
CREATED:20260107T223835Z
LAST-MODIFIED:20260107T223835Z
UID:8090-1787472000-1787490000@tildenparkgolfclub.org
SUMMARY:Director Cup Rd. 1
DESCRIPTION:DIRECTORS CUP TROPHY \nA tournament established in 1938 by the Club’s Board of Directors. \nFORMAT: \nPresently\, the Directors Cup is a 36-hole\, individual medal play Honor Board tournament at full handicap\, played from the Blue tees. \n(Originally the low individual total score over 72 holes\, medal play at handicap. Originally\, there was a secondary tournament of 72 holes of stroke play\, running concurrently\, but without handicaps\, to determine the honorary Low Gross Champion.)
URL:https://tildenparkgolfclub.org/event/director-cup-rd-1-2/
LOCATION:Tilden Park Golf Course\, 10 Golf Course Dr\, Berkeley\, CA\, 94708\, United States
CATEGORIES:Board Tournament
ORGANIZER;CN="Rick Patrick":MAILTO:Rickp510@gmail.com
END:VEVENT
BEGIN:VEVENT
DTSTART;TZID=America/Los_Angeles:20260830T080000
DTEND;TZID=America/Los_Angeles:20260830T130000
DTSTAMP:20260419T095908
CREATED:20260107T223836Z
LAST-MODIFIED:20260107T223836Z
UID:8091-1788076800-1788094800@tildenparkgolfclub.org
SUMMARY:Director Cup Rd. 2
DESCRIPTION:DIRECTORS CUP TROPHY \nA tournament established in 1938 by the Club’s Board of Directors. \nFORMAT: \nPresently\, the Directors Cup is a 36-hole\, individual medal play Honor Board tournament at full handicap\, played from the Blue tees. \n(Originally the low individual total score over 72 holes\, medal play at handicap. Originally\, there was a secondary tournament of 72 holes of stroke play\, running concurrently\, but without handicaps\, to determine the honorary Low Gross Champion.)
URL:https://tildenparkgolfclub.org/event/director-cup-rd-2/
LOCATION:Tilden Park Golf Course\, 10 Golf Course Dr\, Berkeley\, CA\, 94708\, United States
CATEGORIES:Board Tournament
ORGANIZER;CN="Rick Patrick":MAILTO:Rickp510@gmail.com
END:VEVENT
BEGIN:VEVENT
DTSTART;TZID=America/Los_Angeles:20260912T110000
DTEND;TZID=America/Los_Angeles:20260912T160000
DTSTAMP:20260419T095908
CREATED:20260107T223841Z
LAST-MODIFIED:20260112T204448Z
UID:8092-1789210800-1789228800@tildenparkgolfclub.org
SUMMARY:LAGUNA SECA - SPYGLASS TUNEUP
DESCRIPTION:
URL:https://tildenparkgolfclub.org/event/laguna-seca-spyglass-tuneup/
LOCATION:Laguna Seca Golf Ranch\, 10520 York Road\, Monterey\, 93940\, United States
CATEGORIES:Away Day
ORGANIZER;CN="Matt Wilpolt":MAILTO:mattwwilpolt@yahoo.com
END:VEVENT
BEGIN:VEVENT
DTSTART;TZID=America/Los_Angeles:20260913T103000
DTEND;TZID=America/Los_Angeles:20260913T153000
DTSTAMP:20260419T095908
CREATED:20260107T223842Z
LAST-MODIFIED:20260112T204413Z
UID:8093-1789295400-1789313400@tildenparkgolfclub.org
SUMMARY:POPPY HILLS - SPYGLASS TROPHY
DESCRIPTION:
URL:https://tildenparkgolfclub.org/event/poppy-hills-spyglass-trophy-2/
LOCATION:Poppy Hills Golf Course\, 3200 Lopez Road\, Pebble Beach\, CA\, 93953\, United States
CATEGORIES:Away Day
ORGANIZER;CN="Matt Wilpolt":MAILTO:mattwwilpolt@yahoo.com
END:VEVENT
END:VCALENDAR