BEGIN:VCALENDAR
VERSION:2.0
PRODID:-//Tilden Park Golf Club - ECPv6.15.20//NONSGML v1.0//EN
CALSCALE:GREGORIAN
METHOD:PUBLISH
X-WR-CALNAME:Tilden Park Golf Club
X-ORIGINAL-URL:https://tildenparkgolfclub.org
X-WR-CALDESC:Events for Tilden Park Golf Club
REFRESH-INTERVAL;VALUE=DURATION:PT1H
X-Robots-Tag:noindex
X-PUBLISHED-TTL:PT1H
BEGIN:VTIMEZONE
TZID:America/Los_Angeles
BEGIN:DAYLIGHT
TZOFFSETFROM:-0800
TZOFFSETTO:-0700
TZNAME:PDT
DTSTART:20250309T100000
END:DAYLIGHT
BEGIN:STANDARD
TZOFFSETFROM:-0700
TZOFFSETTO:-0800
TZNAME:PST
DTSTART:20251102T090000
END:STANDARD
BEGIN:DAYLIGHT
TZOFFSETFROM:-0800
TZOFFSETTO:-0700
TZNAME:PDT
DTSTART:20260308T100000
END:DAYLIGHT
BEGIN:STANDARD
TZOFFSETFROM:-0700
TZOFFSETTO:-0800
TZNAME:PST
DTSTART:20261101T090000
END:STANDARD
BEGIN:DAYLIGHT
TZOFFSETFROM:-0800
TZOFFSETTO:-0700
TZNAME:PDT
DTSTART:20270314T100000
END:DAYLIGHT
BEGIN:STANDARD
TZOFFSETFROM:-0700
TZOFFSETTO:-0800
TZNAME:PST
DTSTART:20271107T090000
END:STANDARD
END:VTIMEZONE
BEGIN:VEVENT
DTSTART;TZID=America/Los_Angeles:20260628T080000
DTEND;TZID=America/Los_Angeles:20260628T130000
DTSTAMP:20260419T142422
CREATED:20260107T223823Z
LAST-MODIFIED:20260107T223823Z
UID:8084-1782633600-1782651600@tildenparkgolfclub.org
SUMMARY:Club Championship Round 1
DESCRIPTION:CLUB CHAMPIONSHIP TROPHY\nThe Club Championship has been contested since 1938 as a 4- round\, match play event at scratch\, First won by Foster McMullen\, other remarkable Club Champions are: Bill Ames (9)\, Bob George (5)\, John Richards (5)\, Les Johns (5)\, Gordon Wilkes (4)\, Ralph Hall (3)\, Jim Watson (3)\, Steve Wessels (3)\, and Richard Kho (3). \nFORMAT: 72 holes of individual match play at scratch. Depending on turnout following the Aldo Galletti/Club Championship Qualifier\, handicap flights may also be offered. RESTRICTIONS: Members who wish to compete in the Club Championship proper must be a Club member for at least one year and have competed in at least three Club tournaments.
URL:https://tildenparkgolfclub.org/event/club-championship-round-1-2/
LOCATION:Tilden Park Golf Course\, 10 Golf Course Dr\, Berkeley\, CA\, 94708\, United States
CATEGORIES:Board Tournament
ORGANIZER;CN="Rick Patrick":MAILTO:Rickp510@gmail.com
END:VEVENT
END:VCALENDAR