BEGIN:VCALENDAR
VERSION:2.0
PRODID:-//Tilden Park Golf Club - ECPv6.15.20//NONSGML v1.0//EN
CALSCALE:GREGORIAN
METHOD:PUBLISH
X-ORIGINAL-URL:https://tildenparkgolfclub.org
X-WR-CALDESC:Events for Tilden Park Golf Club
REFRESH-INTERVAL;VALUE=DURATION:PT1H
X-Robots-Tag:noindex
X-PUBLISHED-TTL:PT1H
BEGIN:VTIMEZONE
TZID:America/Los_Angeles
BEGIN:DAYLIGHT
TZOFFSETFROM:-0800
TZOFFSETTO:-0700
TZNAME:PDT
DTSTART:20240310T100000
END:DAYLIGHT
BEGIN:STANDARD
TZOFFSETFROM:-0700
TZOFFSETTO:-0800
TZNAME:PST
DTSTART:20241103T090000
END:STANDARD
BEGIN:DAYLIGHT
TZOFFSETFROM:-0800
TZOFFSETTO:-0700
TZNAME:PDT
DTSTART:20250309T100000
END:DAYLIGHT
BEGIN:STANDARD
TZOFFSETFROM:-0700
TZOFFSETTO:-0800
TZNAME:PST
DTSTART:20251102T090000
END:STANDARD
BEGIN:DAYLIGHT
TZOFFSETFROM:-0800
TZOFFSETTO:-0700
TZNAME:PDT
DTSTART:20260308T100000
END:DAYLIGHT
BEGIN:STANDARD
TZOFFSETFROM:-0700
TZOFFSETTO:-0800
TZNAME:PST
DTSTART:20261101T090000
END:STANDARD
END:VTIMEZONE
BEGIN:VEVENT
DTSTART;TZID=America/Los_Angeles:20251221T080000
DTEND;TZID=America/Los_Angeles:20251221T170000
DTSTAMP:20260421T030732
CREATED:20250527T160012Z
LAST-MODIFIED:20250730T220352Z
UID:7717-1766304000-1766336400@tildenparkgolfclub.org
SUMMARY:CHRISTMAS GOOSE SHOOT & YEAR END PARTY
DESCRIPTION:
URL:https://tildenparkgolfclub.org/event/christmas-goose-shoot-year-end-party/
LOCATION:Tilden Park Golf Course\, 10 Golf Course Dr\, Berkeley\, CA\, 94708\, United States
CATEGORIES:Home Tournament
ORGANIZER;CN="Rick Patrick":MAILTO:Rickp510@gmail.com
END:VEVENT
BEGIN:VEVENT
DTSTART;TZID=America/Los_Angeles:20251221T133000
DTEND;TZID=America/Los_Angeles:20251221T170000
DTSTAMP:20260421T030732
CREATED:20251018T054823Z
LAST-MODIFIED:20251018T054952Z
UID:7899-1766323800-1766336400@tildenparkgolfclub.org
SUMMARY:Sign up for Year End Party Only
DESCRIPTION:If you are not playing Christmas Goose Shoot and want to attend the Year end Party only\, please register here.  If you are playing Christmas Goose Shoot\, we will count your attendance for the party\, as the Year End Party will follow immediately after golf.
URL:https://tildenparkgolfclub.org/event/sign-up-for-year-end-party-only/
LOCATION:Tilden Park Golf Course\, 10 Golf Course Dr\, Berkeley\, CA\, 94708\, United States
ORGANIZER;CN="Will Bard":MAILTO:bardshark@aol.com
END:VEVENT
END:VCALENDAR