BEGIN:VCALENDAR
VERSION:2.0
PRODID:-//Tilden Park Golf Club - ECPv6.15.20//NONSGML v1.0//EN
CALSCALE:GREGORIAN
METHOD:PUBLISH
X-ORIGINAL-URL:https://tildenparkgolfclub.org
X-WR-CALDESC:Events for Tilden Park Golf Club
REFRESH-INTERVAL;VALUE=DURATION:PT1H
X-Robots-Tag:noindex
X-PUBLISHED-TTL:PT1H
BEGIN:VTIMEZONE
TZID:America/Los_Angeles
BEGIN:DAYLIGHT
TZOFFSETFROM:-0800
TZOFFSETTO:-0700
TZNAME:PDT
DTSTART:20240310T100000
END:DAYLIGHT
BEGIN:STANDARD
TZOFFSETFROM:-0700
TZOFFSETTO:-0800
TZNAME:PST
DTSTART:20241103T090000
END:STANDARD
BEGIN:DAYLIGHT
TZOFFSETFROM:-0800
TZOFFSETTO:-0700
TZNAME:PDT
DTSTART:20250309T100000
END:DAYLIGHT
BEGIN:STANDARD
TZOFFSETFROM:-0700
TZOFFSETTO:-0800
TZNAME:PST
DTSTART:20251102T090000
END:STANDARD
BEGIN:DAYLIGHT
TZOFFSETFROM:-0800
TZOFFSETTO:-0700
TZNAME:PDT
DTSTART:20260308T100000
END:DAYLIGHT
BEGIN:STANDARD
TZOFFSETFROM:-0700
TZOFFSETTO:-0800
TZNAME:PST
DTSTART:20261101T090000
END:STANDARD
END:VTIMEZONE
BEGIN:VEVENT
DTSTART;TZID=America/Los_Angeles:20250223T080000
DTEND;TZID=America/Los_Angeles:20250223T170000
DTSTAMP:20260420T032149
CREATED:20250206T012711Z
LAST-MODIFIED:20250206T012711Z
UID:7481-1740297600-1740330000@tildenparkgolfclub.org
SUMMARY:NCGA North East Bay Zone Championship
DESCRIPTION:TPGC’s Qualifier for the NCGA NEB Zone Championship\nSunday\, February 23\, 2024\, 8:00am\nFirst played in 1967\, the NCGA Zone Championship is a four-person team event among other clubs in fourteen regional areas of Northern California.  Plumas Lake G&CC holds the record for the most wins with three (2008\, 2010 & 2019).  Four clubs have won twice: Palo Alto Hills (1968\, 1970)\, Del Rio G&CC (1969\, 2013)\, Kings CC (1977\, 2003) and Churn Creek GC (1993\, 2012). No club has ever repeated as champion.\nFormat:  Individual stroke play from White Tees at 85% handicap.\nTo sign up for this event\, one can register on the club’s website or send an email to TildenGolf@gmail.com.\nWinner’s will advance to the NCGA qualifier at Poppy Hills and Del Monte – April 7-8\, 2025. If sucessful\, the team will be eligible to play in the Championship\,  August 25-26\, 2025 at Bayonet and Black Horse.\nCurrently RegisteredBob Burger Josh Cronemeyer
URL:https://tildenparkgolfclub.org/event/ncga-north-east-bay-zone-championship/
LOCATION:Tilden Park Golf Course\, 10 Golf Course Dr\, Berkeley\, CA\, 94708\, United States
ORGANIZER;CN="Will Bard":MAILTO:bardshark@aol.com
END:VEVENT
END:VCALENDAR