BEGIN:VCALENDAR
VERSION:2.0
PRODID:-//Tilden Park Golf Club - ECPv6.15.20//NONSGML v1.0//EN
CALSCALE:GREGORIAN
METHOD:PUBLISH
X-WR-CALNAME:Tilden Park Golf Club
X-ORIGINAL-URL:https://tildenparkgolfclub.org
X-WR-CALDESC:Events for Tilden Park Golf Club
REFRESH-INTERVAL;VALUE=DURATION:PT1H
X-Robots-Tag:noindex
X-PUBLISHED-TTL:PT1H
BEGIN:VTIMEZONE
TZID:America/Los_Angeles
BEGIN:DAYLIGHT
TZOFFSETFROM:-0800
TZOFFSETTO:-0700
TZNAME:PDT
DTSTART:20230312T100000
END:DAYLIGHT
BEGIN:STANDARD
TZOFFSETFROM:-0700
TZOFFSETTO:-0800
TZNAME:PST
DTSTART:20231105T090000
END:STANDARD
BEGIN:DAYLIGHT
TZOFFSETFROM:-0800
TZOFFSETTO:-0700
TZNAME:PDT
DTSTART:20240310T100000
END:DAYLIGHT
BEGIN:STANDARD
TZOFFSETFROM:-0700
TZOFFSETTO:-0800
TZNAME:PST
DTSTART:20241103T090000
END:STANDARD
BEGIN:DAYLIGHT
TZOFFSETFROM:-0800
TZOFFSETTO:-0700
TZNAME:PDT
DTSTART:20250309T100000
END:DAYLIGHT
BEGIN:STANDARD
TZOFFSETFROM:-0700
TZOFFSETTO:-0800
TZNAME:PST
DTSTART:20251102T090000
END:STANDARD
END:VTIMEZONE
BEGIN:VEVENT
DTSTART;TZID=America/Los_Angeles:20240908T110000
DTEND;TZID=America/Los_Angeles:20240908T170000
DTSTAMP:20260420T091507
CREATED:20240821T181758Z
LAST-MODIFIED:20240821T181758Z
UID:7215-1725793200-1725814800@tildenparkgolfclub.org
SUMMARY:Spy Glass Trophy at Bayonet
DESCRIPTION:SPYGLASS TROPHY\nThis Honor Board tournament was originally played at Spyglass Hill in Pebble Beach until Poppy Hills Golf Course was built. This year it will be played at Bayonet. It is normally held in the Fall and is preceded with an informal Saturday warm-up competition at the Pacific Grove Golf Course. \nFORMAT: 18 holes of individual medal play at handicap. \nBayonet\, with its narrow playing corridors and steep\, penal bunkering\, has long been considered the most difficult test of golf on the Monterey Peninsula. The par-72\, 7\,104-yard course is famous for playability and strategic options. \n  \nCurrently RegisteredBob Burger Marc Lajoie John Richards Tyler Meeks Chris Utter Gordon Libby
URL:https://tildenparkgolfclub.org/event/spy-glass-trophy-at-bayonet/
LOCATION:Bayonet\, 1 McClure Way\, Seaside\, CA\, 93955\, United States
CATEGORIES:Board Tournament
ORGANIZER;CN="Will Bard":MAILTO:bardshark@aol.com
END:VEVENT
END:VCALENDAR