BEGIN:VCALENDAR
VERSION:2.0
PRODID:-//Tilden Park Golf Club - ECPv6.15.20//NONSGML v1.0//EN
CALSCALE:GREGORIAN
METHOD:PUBLISH
X-ORIGINAL-URL:https://tildenparkgolfclub.org
X-WR-CALDESC:Events for Tilden Park Golf Club
REFRESH-INTERVAL;VALUE=DURATION:PT1H
X-Robots-Tag:noindex
X-PUBLISHED-TTL:PT1H
BEGIN:VTIMEZONE
TZID:America/Los_Angeles
BEGIN:DAYLIGHT
TZOFFSETFROM:-0800
TZOFFSETTO:-0700
TZNAME:PDT
DTSTART:20230312T100000
END:DAYLIGHT
BEGIN:STANDARD
TZOFFSETFROM:-0700
TZOFFSETTO:-0800
TZNAME:PST
DTSTART:20231105T090000
END:STANDARD
BEGIN:DAYLIGHT
TZOFFSETFROM:-0800
TZOFFSETTO:-0700
TZNAME:PDT
DTSTART:20240310T100000
END:DAYLIGHT
BEGIN:STANDARD
TZOFFSETFROM:-0700
TZOFFSETTO:-0800
TZNAME:PST
DTSTART:20241103T090000
END:STANDARD
BEGIN:DAYLIGHT
TZOFFSETFROM:-0800
TZOFFSETTO:-0700
TZNAME:PDT
DTSTART:20250309T100000
END:DAYLIGHT
BEGIN:STANDARD
TZOFFSETFROM:-0700
TZOFFSETTO:-0800
TZNAME:PST
DTSTART:20251102T090000
END:STANDARD
END:VTIMEZONE
BEGIN:VEVENT
DTSTART;TZID=America/Los_Angeles:20240818T080000
DTEND;TZID=America/Los_Angeles:20240818T170000
DTSTAMP:20260420T105558
CREATED:20240519T190303Z
LAST-MODIFIED:20240519T190303Z
UID:6787-1723968000-1724000400@tildenparkgolfclub.org
SUMMARY:Texdahl/Johnson Trophy Tournament
DESCRIPTION:TEXDAHL/JOHNSON TROPHY\nEstablished by Don Texdahl\, a Club Champion (1978) and Club member for many years until his death in 1993 after enjoying a round of golf. An excellent golfer and a real gentleman\, Don competed in 37 consecutive State Amateur Tournaments as well as others\, including the 1980 US Senior Amateur Championship at Virginia Hot Springs. He won the 1982 San Francisco City Championship at Harding Park and competed in the 1963 Lucky-International Pro/Am Tournaments with partners Jack Nicklaus\, Bobby Nichols\, and Miller Barber. The Texdahl/Johnson Honor Board tournament is named after the sporting goods outlet operated by Don and his partner Johnson. Originally played at Aptos Seascape Golf Course for several years it moved to Oakmont in Santa Rosa where Don retired. Presently\, this tournament is played at various away venues. \nFORMAT: 18 holes of individual medal play at handicap. \n  \nCurrently RegisteredRichard Adler Rodney Kelman Chris Utter John Richards Ed Bloom Robert Brunel
URL:https://tildenparkgolfclub.org/event/texdahl-johnson-trophy-tournament/
LOCATION:Indian Valley Golf Course\, 3035 Novato Blvd.\, Novato\, CA\, 94948\, United States
CATEGORIES:Board Tournament
ORGANIZER;CN="Will Bard":MAILTO:bardshark@aol.com
END:VEVENT
END:VCALENDAR