BEGIN:VCALENDAR
VERSION:2.0
PRODID:-//Tilden Park Golf Club - ECPv6.15.20//NONSGML v1.0//EN
CALSCALE:GREGORIAN
METHOD:PUBLISH
X-ORIGINAL-URL:https://tildenparkgolfclub.org
X-WR-CALDESC:Events for Tilden Park Golf Club
REFRESH-INTERVAL;VALUE=DURATION:PT1H
X-Robots-Tag:noindex
X-PUBLISHED-TTL:PT1H
BEGIN:VTIMEZONE
TZID:America/Los_Angeles
BEGIN:DAYLIGHT
TZOFFSETFROM:-0800
TZOFFSETTO:-0700
TZNAME:PDT
DTSTART:20230312T100000
END:DAYLIGHT
BEGIN:STANDARD
TZOFFSETFROM:-0700
TZOFFSETTO:-0800
TZNAME:PST
DTSTART:20231105T090000
END:STANDARD
BEGIN:DAYLIGHT
TZOFFSETFROM:-0800
TZOFFSETTO:-0700
TZNAME:PDT
DTSTART:20240310T100000
END:DAYLIGHT
BEGIN:STANDARD
TZOFFSETFROM:-0700
TZOFFSETTO:-0800
TZNAME:PST
DTSTART:20241103T090000
END:STANDARD
BEGIN:DAYLIGHT
TZOFFSETFROM:-0800
TZOFFSETTO:-0700
TZNAME:PDT
DTSTART:20250309T100000
END:DAYLIGHT
BEGIN:STANDARD
TZOFFSETFROM:-0700
TZOFFSETTO:-0800
TZNAME:PST
DTSTART:20251102T090000
END:STANDARD
END:VTIMEZONE
BEGIN:VEVENT
DTSTART;TZID=America/Los_Angeles:20240519T080000
DTEND;TZID=America/Los_Angeles:20240519T170000
DTSTAMP:20260420T153414
CREATED:20240316T190448Z
LAST-MODIFIED:20240316T190448Z
UID:6490-1716105600-1716138000@tildenparkgolfclub.org
SUMMARY:Director Cup Rd. 1
DESCRIPTION:DIRECTORS CUP TROPHY  \nA tournament established in 1938 by the Club’s Board of Directors. \nFORMAT: \nPresently\, the Directors Cup is a 36-hole\, individual medal play Honor Board tournament at full handicap\, played from the Blue tees. \n(Originally the low individual total score over 72 holes\, medal play at handicap. Originally\, there was a secondary tournament of 72 holes of stroke play\, running concurrently\, but without handicaps\, to determine the honorary Low Gross Champion.) \n  \nCurrently RegisteredRichard Adler Marc Lajoie Ron Vincent Jesse Sechak
URL:https://tildenparkgolfclub.org/event/director-cup-rd-1/
LOCATION:Tilden Park Golf Course\, 10 Golf Course Dr\, Berkeley\, CA\, 94708\, United States
CATEGORIES:Board Tournament
ORGANIZER;CN="Will Bard":MAILTO:bardshark@aol.com
END:VEVENT
END:VCALENDAR