BEGIN:VCALENDAR
VERSION:2.0
PRODID:-//Tilden Park Golf Club - ECPv6.15.20//NONSGML v1.0//EN
CALSCALE:GREGORIAN
METHOD:PUBLISH
X-ORIGINAL-URL:https://tildenparkgolfclub.org
X-WR-CALDESC:Events for Tilden Park Golf Club
REFRESH-INTERVAL;VALUE=DURATION:PT1H
X-Robots-Tag:noindex
X-PUBLISHED-TTL:PT1H
BEGIN:VTIMEZONE
TZID:America/Los_Angeles
BEGIN:DAYLIGHT
TZOFFSETFROM:-0800
TZOFFSETTO:-0700
TZNAME:PDT
DTSTART:20230312T100000
END:DAYLIGHT
BEGIN:STANDARD
TZOFFSETFROM:-0700
TZOFFSETTO:-0800
TZNAME:PST
DTSTART:20231105T090000
END:STANDARD
BEGIN:DAYLIGHT
TZOFFSETFROM:-0800
TZOFFSETTO:-0700
TZNAME:PDT
DTSTART:20240310T100000
END:DAYLIGHT
BEGIN:STANDARD
TZOFFSETFROM:-0700
TZOFFSETTO:-0800
TZNAME:PST
DTSTART:20241103T090000
END:STANDARD
BEGIN:DAYLIGHT
TZOFFSETFROM:-0800
TZOFFSETTO:-0700
TZNAME:PDT
DTSTART:20250309T100000
END:DAYLIGHT
BEGIN:STANDARD
TZOFFSETFROM:-0700
TZOFFSETTO:-0800
TZNAME:PST
DTSTART:20251102T090000
END:STANDARD
END:VTIMEZONE
BEGIN:VEVENT
DTSTART;TZID=America/Los_Angeles:20240505T080000
DTEND;TZID=America/Los_Angeles:20240505T170000
DTSTAMP:20260420T153342
CREATED:20240304T212958Z
LAST-MODIFIED:20240304T212958Z
UID:6381-1714896000-1714928400@tildenparkgolfclub.org
SUMMARY:Ross Final
DESCRIPTION:ROSS TROPHY \nThe Milton K. Ross Perpetual Trophy Honor Board tournament began in 1943 with a trophy donated by Milton Ross\, a Berkeley taxi company owner and known as the “golfing cabbie.” Ross was one of Tilden Park Golf Club’s earliest members\, playing most of his amateur rounds at Tilden. He became so enamored of golf that he dropped everything to become a pro golfer\, succeeding only to the extent of becoming an assistant pro at a few golf clubs and ending up in Las Vegas from whence he disappeared. \nFORMAT: Two person teams (members making up their own teams) play 18 holes of better-ball medal play at handicap. The 16 low net teams advance to a 72 hole\, better-ball match play competition. \nRegistrations are closed for this event
URL:https://tildenparkgolfclub.org/event/ross-final/
LOCATION:Tilden Park Golf Course\, 10 Golf Course Dr\, Berkeley\, CA\, 94708\, United States
CATEGORIES:Board Tournament
ORGANIZER;CN="Will Bard":MAILTO:bardshark@aol.com
END:VEVENT
END:VCALENDAR