BEGIN:VCALENDAR
VERSION:2.0
PRODID:-//Tilden Park Golf Club - ECPv6.15.20//NONSGML v1.0//EN
CALSCALE:GREGORIAN
METHOD:PUBLISH
X-WR-CALNAME:Tilden Park Golf Club
X-ORIGINAL-URL:https://tildenparkgolfclub.org
X-WR-CALDESC:Events for Tilden Park Golf Club
REFRESH-INTERVAL;VALUE=DURATION:PT1H
X-Robots-Tag:noindex
X-PUBLISHED-TTL:PT1H
BEGIN:VTIMEZONE
TZID:America/Los_Angeles
BEGIN:DAYLIGHT
TZOFFSETFROM:-0800
TZOFFSETTO:-0700
TZNAME:PDT
DTSTART:20230312T100000
END:DAYLIGHT
BEGIN:STANDARD
TZOFFSETFROM:-0700
TZOFFSETTO:-0800
TZNAME:PST
DTSTART:20231105T090000
END:STANDARD
BEGIN:DAYLIGHT
TZOFFSETFROM:-0800
TZOFFSETTO:-0700
TZNAME:PDT
DTSTART:20240310T100000
END:DAYLIGHT
BEGIN:STANDARD
TZOFFSETFROM:-0700
TZOFFSETTO:-0800
TZNAME:PST
DTSTART:20241103T090000
END:STANDARD
BEGIN:DAYLIGHT
TZOFFSETFROM:-0800
TZOFFSETTO:-0700
TZNAME:PDT
DTSTART:20250309T100000
END:DAYLIGHT
BEGIN:STANDARD
TZOFFSETFROM:-0700
TZOFFSETTO:-0800
TZNAME:PST
DTSTART:20251102T090000
END:STANDARD
END:VTIMEZONE
BEGIN:VEVENT
DTSTART;TZID=America/Los_Angeles:20240128T103000
DTEND;TZID=America/Los_Angeles:20240128T170000
DTSTAMP:20260420T214431
CREATED:20231230T202919Z
LAST-MODIFIED:20240127T195851Z
UID:5996-1706437800-1706461200@tildenparkgolfclub.org
SUMMARY:Blue Rock Springs - East
DESCRIPTION:First Away Tournament of the Year \nStroke Play from the White tees. \n$70 Riding \n$55 Walking \nGross Winner $25\, Net Winner $25\, CTPs on all 5 Par 3s $15 each. \n  \n  \n  \nCurrently RegisteredMichael Merritt Robert Brunel Steve Hatzirallis Barry Witt Ron Vincent Ed Bloom Nigel Harold Gordon Libby Jesse Sechak John Richards Jeff McGee Bob Burger Rodney Kelman
URL:https://tildenparkgolfclub.org/event/blue-rock-springs-east/
LOCATION:Blue Rock Springs\, 655 Columbus Parkway\, Vallejo\, CA\, 94591\, United States
CATEGORIES:Away Day
ORGANIZER;CN="Will Bard":MAILTO:bardshark@aol.com
END:VEVENT
END:VCALENDAR