BEGIN:VCALENDAR
VERSION:2.0
PRODID:-//Tilden Park Golf Club - ECPv6.15.20//NONSGML v1.0//EN
CALSCALE:GREGORIAN
METHOD:PUBLISH
X-ORIGINAL-URL:https://tildenparkgolfclub.org
X-WR-CALDESC:Events for Tilden Park Golf Club
REFRESH-INTERVAL;VALUE=DURATION:PT1H
X-Robots-Tag:noindex
X-PUBLISHED-TTL:PT1H
BEGIN:VTIMEZONE
TZID:America/Los_Angeles
BEGIN:DAYLIGHT
TZOFFSETFROM:-0800
TZOFFSETTO:-0700
TZNAME:PDT
DTSTART:20220313T100000
END:DAYLIGHT
BEGIN:STANDARD
TZOFFSETFROM:-0700
TZOFFSETTO:-0800
TZNAME:PST
DTSTART:20221106T090000
END:STANDARD
BEGIN:DAYLIGHT
TZOFFSETFROM:-0800
TZOFFSETTO:-0700
TZNAME:PDT
DTSTART:20230312T100000
END:DAYLIGHT
BEGIN:STANDARD
TZOFFSETFROM:-0700
TZOFFSETTO:-0800
TZNAME:PST
DTSTART:20231105T090000
END:STANDARD
BEGIN:DAYLIGHT
TZOFFSETFROM:-0800
TZOFFSETTO:-0700
TZNAME:PDT
DTSTART:20240310T100000
END:DAYLIGHT
BEGIN:STANDARD
TZOFFSETFROM:-0700
TZOFFSETTO:-0800
TZNAME:PST
DTSTART:20241103T090000
END:STANDARD
END:VTIMEZONE
BEGIN:VEVENT
DTSTART;TZID=America/Los_Angeles:20230416T080000
DTEND;TZID=America/Los_Angeles:20230416T123000
DTSTAMP:20260421T145043
CREATED:20230411T170041Z
LAST-MODIFIED:20230418T163308Z
UID:4573-1681632000-1681648200@tildenparkgolfclub.org
SUMMARY:TPGC's Thursday Evening Stableford - Week 2
DESCRIPTION:Sign ups are open for this Thurday (04-20-23) Evening Stableford.  The Club has three tee times starting at 5:00pm.  Tee Times will be released unless players register on the Club’s website or contact us at tildenparkgolf@gmail.com. \nWinners from Week 1: Gross: Juan Kanagui (14 pts) and Net: Chris Utter (17 pts) \nNEXT UP AT TPGC this Sunday\, 04-23-23:  Semi-Finals of The Ross Championship: Chai/Glass\, Harold/Vincent\, Karangui/Sechak\, and Easley/Mackey.  Anyone interested in playing as a marker or in individual stroke or match play register on the Club’s website or contact us at tildenparkgolf@gmail.com.   \nGo TPGC! \nCurrently RegisteredMichael Choi Rick Patrick NIgel Harold Chin Chai Tim Easley Paul Lozito Kenneth Chan Steve Hammond Stacey Mackey Ronald Vincent Bill Glass Chris Utter Jesse Sechak Will Bard
URL:https://tildenparkgolfclub.org/event/qualifier-for-79th-milton-ross-perpetual-team-championship-trophy/
LOCATION:Tilden Park Golf Course\, 10 Golf Course Dr\, Berkeley\, CA\, 94708\, United States
END:VEVENT
END:VCALENDAR