BEGIN:VCALENDAR
VERSION:2.0
PRODID:-//Tilden Park Golf Club - ECPv6.15.20//NONSGML v1.0//EN
CALSCALE:GREGORIAN
METHOD:PUBLISH
X-WR-CALNAME:Tilden Park Golf Club
X-ORIGINAL-URL:https://tildenparkgolfclub.org
X-WR-CALDESC:Events for Tilden Park Golf Club
REFRESH-INTERVAL;VALUE=DURATION:PT1H
X-Robots-Tag:noindex
X-PUBLISHED-TTL:PT1H
BEGIN:VTIMEZONE
TZID:America/Los_Angeles
BEGIN:DAYLIGHT
TZOFFSETFROM:-0800
TZOFFSETTO:-0700
TZNAME:PDT
DTSTART:20220313T100000
END:DAYLIGHT
BEGIN:STANDARD
TZOFFSETFROM:-0700
TZOFFSETTO:-0800
TZNAME:PST
DTSTART:20221106T090000
END:STANDARD
BEGIN:DAYLIGHT
TZOFFSETFROM:-0800
TZOFFSETTO:-0700
TZNAME:PDT
DTSTART:20230312T100000
END:DAYLIGHT
BEGIN:STANDARD
TZOFFSETFROM:-0700
TZOFFSETTO:-0800
TZNAME:PST
DTSTART:20231105T090000
END:STANDARD
BEGIN:DAYLIGHT
TZOFFSETFROM:-0800
TZOFFSETTO:-0700
TZNAME:PDT
DTSTART:20240310T100000
END:DAYLIGHT
BEGIN:STANDARD
TZOFFSETFROM:-0700
TZOFFSETTO:-0800
TZNAME:PST
DTSTART:20241103T090000
END:STANDARD
END:VTIMEZONE
BEGIN:VEVENT
DTSTART;TZID=America/Los_Angeles:20230312T080000
DTEND;TZID=America/Los_Angeles:20230312T150000
DTSTAMP:20260421T174057
CREATED:20230304T191151Z
LAST-MODIFIED:20230304T191358Z
UID:4215-1678608000-1678633200@tildenparkgolfclub.org
SUMMARY:NCGA Qualifier - North East Bay Zone Tournament
DESCRIPTION:Join us on March 12th at Tilden Park Golf Course for the qualifier for the NCGA North East Bay Zone Tournament. The format will be stroke play with full handicaps from the Whites. \nThe 4 top players will advance as a team to play Poppy Hills on May 1st & 2nd. The top 2 teams will advance to play in the Zone Championship at Poppy HIlls & Spyglass on August 21st & 22nd. \nCurrently RegisteredJuan Kanagui Chris Utter Paul Lozito Mike Cooper Stacey Mackey Ron Vincent
URL:https://tildenparkgolfclub.org/event/ncga-qualifier-north-east-bay-zone-tournament/
LOCATION:Tilden Park Golf Course\, 10 Golf Course Dr\, Berkeley\, CA\, 94708\, United States
ORGANIZER;CN="Will Bard":MAILTO:bardshark@aol.com
END:VEVENT
END:VCALENDAR