BEGIN:VCALENDAR
VERSION:2.0
PRODID:-//Tilden Park Golf Club - ECPv6.15.20//NONSGML v1.0//EN
CALSCALE:GREGORIAN
METHOD:PUBLISH
X-ORIGINAL-URL:https://tildenparkgolfclub.org
X-WR-CALDESC:Events for Tilden Park Golf Club
REFRESH-INTERVAL;VALUE=DURATION:PT1H
X-Robots-Tag:noindex
X-PUBLISHED-TTL:PT1H
BEGIN:VTIMEZONE
TZID:America/Los_Angeles
BEGIN:DAYLIGHT
TZOFFSETFROM:-0800
TZOFFSETTO:-0700
TZNAME:PDT
DTSTART:20220313T100000
END:DAYLIGHT
BEGIN:STANDARD
TZOFFSETFROM:-0700
TZOFFSETTO:-0800
TZNAME:PST
DTSTART:20221106T090000
END:STANDARD
BEGIN:DAYLIGHT
TZOFFSETFROM:-0800
TZOFFSETTO:-0700
TZNAME:PDT
DTSTART:20230312T100000
END:DAYLIGHT
BEGIN:STANDARD
TZOFFSETFROM:-0700
TZOFFSETTO:-0800
TZNAME:PST
DTSTART:20231105T090000
END:STANDARD
BEGIN:DAYLIGHT
TZOFFSETFROM:-0800
TZOFFSETTO:-0700
TZNAME:PDT
DTSTART:20240310T100000
END:DAYLIGHT
BEGIN:STANDARD
TZOFFSETFROM:-0700
TZOFFSETTO:-0800
TZNAME:PST
DTSTART:20241103T090000
END:STANDARD
END:VTIMEZONE
BEGIN:VEVENT
DTSTART;TZID=America/Los_Angeles:20230226T080000
DTEND;TZID=America/Los_Angeles:20230226T130000
DTSTAMP:20260421T185839
CREATED:20230121T203610Z
LAST-MODIFIED:20230212T053958Z
UID:3875-1677398400-1677416400@tildenparkgolfclub.org
SUMMARY:NCGA Four-Ball Net Qualifier
DESCRIPTION:This is the first of five NCGA qualifiers for TPGC Members.  Pick your partner for this two-person team event and compete in a Medal Play Four-Ball format over 18 holes\, the two low-net teams advancing to the NCGA Regional Qualifier at Del Monte Golf Course and Poppy Hills on April 17-21\, 2023. \n  \nCurrently RegisteredRick Patrick Chuck Stephenson Chris Utter Chin Chai Tim Easley Mike Cooper Stacey Mackey Bill Glass Kenneth Chan Will Bard Ron Vincent Paul Lozito Jason Nam
URL:https://tildenparkgolfclub.org/event/ncga-four-ball-net-qualifier/
LOCATION:Tilden Park Golf Course\, 10 Golf Course Dr\, Berkeley\, CA\, 94708\, United States
ORGANIZER;CN="Will Bard":MAILTO:bardshark@aol.com
END:VEVENT
END:VCALENDAR