BEGIN:VCALENDAR
VERSION:2.0
PRODID:-//Tilden Park Golf Club - ECPv6.15.20//NONSGML v1.0//EN
CALSCALE:GREGORIAN
METHOD:PUBLISH
X-ORIGINAL-URL:https://tildenparkgolfclub.org
X-WR-CALDESC:Events for Tilden Park Golf Club
REFRESH-INTERVAL;VALUE=DURATION:PT1H
X-Robots-Tag:noindex
X-PUBLISHED-TTL:PT1H
BEGIN:VTIMEZONE
TZID:America/Los_Angeles
BEGIN:DAYLIGHT
TZOFFSETFROM:-0800
TZOFFSETTO:-0700
TZNAME:PDT
DTSTART:20220313T100000
END:DAYLIGHT
BEGIN:STANDARD
TZOFFSETFROM:-0700
TZOFFSETTO:-0800
TZNAME:PST
DTSTART:20221106T090000
END:STANDARD
BEGIN:DAYLIGHT
TZOFFSETFROM:-0800
TZOFFSETTO:-0700
TZNAME:PDT
DTSTART:20230312T100000
END:DAYLIGHT
BEGIN:STANDARD
TZOFFSETFROM:-0700
TZOFFSETTO:-0800
TZNAME:PST
DTSTART:20231105T090000
END:STANDARD
BEGIN:DAYLIGHT
TZOFFSETFROM:-0800
TZOFFSETTO:-0700
TZNAME:PDT
DTSTART:20240310T100000
END:DAYLIGHT
BEGIN:STANDARD
TZOFFSETFROM:-0700
TZOFFSETTO:-0800
TZNAME:PST
DTSTART:20241103T090000
END:STANDARD
END:VTIMEZONE
BEGIN:VEVENT
DTSTART;TZID=America/Los_Angeles:20230205T080000
DTEND;TZID=America/Los_Angeles:20230205T150000
DTSTAMP:20260421T185839
CREATED:20230118T183819Z
LAST-MODIFIED:20230118T183819Z
UID:3872-1675584000-1675609200@tildenparkgolfclub.org
SUMMARY:Otto Zeus
DESCRIPTION:Join us for our first of the year Board Tournament. \nOTTO ZEUS TROPHY This Honor Board tournament began in 1959 and is named after the first\nsecretary of the Tilden Park Golf Club. \nCurrently RegisteredBob Burger Paul Lozito Kenneth Chan Will Bard Stacey Mackey Ron Vincent Bill Glass Brett Camarda Jesse Sechak Amilcar Barrientos Chris Utter
URL:https://tildenparkgolfclub.org/event/otto-zeus-2/
LOCATION:Tilden Park Golf Course\, 10 Golf Course Dr\, Berkeley\, CA\, 94708\, United States
END:VEVENT
END:VCALENDAR